BEGIN:VCALENDAR
VERSION:2.0
PRODID:-//wp-events-plugin.com//7.2.3.1//EN
TZID:America/New_York
X-WR-TIMEZONE:America/New_York
BEGIN:VEVENT
UID:846@swconline.org
DTSTART;TZID=America/New_York:20211130T180000
DTEND;TZID=America/New_York:20211130T200000
DTSTAMP:20211129T154950Z
URL:https://swconline.org/calendar-of-events/world-aids-day-event-at-trini
 ty-lutheran-church/
SUMMARY:World AIDS Day Event at Trinity Lutheran Church
DESCRIPTION:Tuesday\, November 30th - 6:00 PM - 8:00 PM\, at Trinity Luth
 eran Church\, 616 North Ave.\, Pittsburgh\, PA 15212 - the staff of Shephe
 rd Wellness Community and several of our partner organizations give back t
 o the Pittsburgh community in honor of World AIDS Day. SWC staff and volu
 nteers will be serving hot and cold food made possible by a donation from 
 our good friends at Sysco. Our partners at Macedonia FACE\, Allies For He
 alth + Wellbeing\, The Open Door\, Allegheny County Health Department\, Pl
 anned Parenthood and the North Side Christian Health Center will be there 
 providing free HIV testing\, At-home HIV tests\, adult and pediatric COVID
  Vaccinations\, COVID testing\, Narcan\, and housing resources. In additio
 n there will be winter giveaways including hygiene and personal protective
  products and winter scarves\, mittens and socks.
END:VEVENT
BEGIN:VTIMEZONE
TZID:America/New_York
X-LIC-LOCATION:America/New_York
BEGIN:STANDARD
DTSTART:20211107T010000
TZOFFSETFROM:-0400
TZOFFSETTO:-0500
TZNAME:EST
END:STANDARD
END:VTIMEZONE
END:VCALENDAR