BEGIN:VCALENDAR
VERSION:2.0
PRODID:-//wp-events-plugin.com//7.2.3.1//EN
TZID:America/New_York
X-WR-TIMEZONE:America/New_York
BEGIN:VEVENT
UID:847@swconline.org
DTSTART;TZID=America/New_York:20211201T120000
DTEND;TZID=America/New_York:20211201T150000
DTSTAMP:20211129T155145Z
URL:https://swconline.org/calendar-of-events/world-aids-day-event-at-east-
 liberty-giant-eagle/
SUMMARY:World AIDS Day Event at East Liberty Giant Eagle
DESCRIPTION:Wednesday\, December 1st - noon to 3 PM\, at the Giant Eagle\
 , 6320 Shakespeare St.\, East Liberty. - Allies will host a collaborative
  outreach event with our community partners: Allegheny County Health Depar
 tment\, Community Kitchen\, Gateway Health\, Giant Eagle\, Macedonia FACE\
 , Persad Center\, SPIN\, UPMC\, and the Women's Center and Shelter. Th
 e event will begin with a non-denominational prayer of remembrance by the 
 Rev. Caitlin Werth of Regent Square-based Waverly Presbyterian Church. The
  prayer will be followed by four speakers: State Rep. Dan Frankel\; Dr. Tr
 isha Gadson\, CEO of Macedonia Family and Community Enrichment Center\; Da
 n Donovan\, Giant Eagle's director of corporate communications\; and mysel
 f. Allies will have its mobile testing van available\, and together with 
 our partner organizations we will be offering resources and info to those 
 who attend. We hope you can join us to remember those we lost to HIV and s
 upport those living with the disease.
END:VEVENT
BEGIN:VTIMEZONE
TZID:America/New_York
X-LIC-LOCATION:America/New_York
BEGIN:STANDARD
DTSTART:20211107T010000
TZOFFSETFROM:-0400
TZOFFSETTO:-0500
TZNAME:EST
END:STANDARD
END:VTIMEZONE
END:VCALENDAR