BEGIN:VCALENDAR
VERSION:2.0
PRODID:-//wp-events-plugin.com//7.2.3.1//EN
TZID:America/New_York
X-WR-TIMEZONE:America/New_York
BEGIN:VEVENT
UID:1041@swconline.org
DTSTART;TZID=America/New_York:20221230T190000
DTEND;TZID=America/New_York:20221230T200000
DTSTAMP:20221117T194358Z
URL:https://swconline.org/calendar-of-events/virtual-holidaytime-talk-2/
SUMMARY:Virtual Holidaytime Talk
DESCRIPTION:Virtual Holidaytime Talk is an experience in supportive communi
 ty. It’s a time to share stories and find support at the holidays from o
 thers during a social Zoom session.\n\n&nbsp\;
END:VEVENT
BEGIN:VTIMEZONE
TZID:America/New_York
X-LIC-LOCATION:America/New_York
BEGIN:STANDARD
DTSTART:20221106T010000
TZOFFSETFROM:-0400
TZOFFSETTO:-0500
TZNAME:EST
END:STANDARD
END:VTIMEZONE
END:VCALENDAR