BEGIN:VCALENDAR
VERSION:2.0
PRODID:-//wp-events-plugin.com//7.2.3.1//EN
TZID:America/New_York
X-WR-TIMEZONE:America/New_York
BEGIN:VEVENT
UID:845@swconline.org
DTSTART;TZID=America/New_York:20211224T190000
DTEND;TZID=America/New_York:20211224T200000
DTSTAMP:20211129T154801Z
URL:https://swconline.org/calendar-of-events/virtual-holiday-table-talk/
SUMMARY:Virtual Holiday Table Talk
DESCRIPTION:Virtual Holiday Table Talk 7pm: 12/24\n\n&nbsp\;\n\nVirtual Tab
 le Talk is an experience in supportive community. It’s a time to informa
 lly discuss issues\, share experiences and find help and advice from other
 s during a social Zoom session.\n\nIf you do not receive our weekly email 
 with a link to SWC Zoom meetings\, please email us at office@swconline.org
  to receive a link or call us at 412-683-4477 to receive the call-in code.
END:VEVENT
BEGIN:VTIMEZONE
TZID:America/New_York
X-LIC-LOCATION:America/New_York
BEGIN:STANDARD
DTSTART:20211107T010000
TZOFFSETFROM:-0400
TZOFFSETTO:-0500
TZNAME:EST
END:STANDARD
END:VTIMEZONE
END:VCALENDAR