BEGIN:VCALENDAR
VERSION:2.0
PRODID:-//wp-events-plugin.com//7.2.3.1//EN
TZID:America/New_York
X-WR-TIMEZONE:America/New_York
BEGIN:VEVENT
UID:876@swconline.org
DTSTART;TZID=America/New_York:20220104T000000
DTEND;TZID=America/New_York:20220104T000000
DTSTAMP:20211215T161917Z
URL:https://swconline.org/calendar-of-events/swc-will-be-closed-12-24-1-7-
 2022-01-04/
SUMMARY:SWC will be closed 12/24-1/9
DESCRIPTION:The SWC office will be closed 12/24/2021- 1/9/2022.  Happy Hol
 idays!
END:VEVENT
BEGIN:VTIMEZONE
TZID:America/New_York
X-LIC-LOCATION:America/New_York
BEGIN:STANDARD
DTSTART:20211107T010000
TZOFFSETFROM:-0400
TZOFFSETTO:-0500
TZNAME:EST
END:STANDARD
END:VTIMEZONE
END:VCALENDAR