BEGIN:VCALENDAR
VERSION:2.0
PRODID:-//wp-events-plugin.com//7.2.3.1//EN
TZID:America/New_York
X-WR-TIMEZONE:America/New_York
BEGIN:VEVENT
UID:1648@swconline.org
DTSTART;TZID=America/New_York:20240207T163000
DTEND;TZID=America/New_York:20240207T190000
DTSTAMP:20240205T192930Z
URL:https://swconline.org/calendar-of-events/swc-wellness-dinner-wellness-
 jewelry-making-2/
SUMMARY:SWC Wellness Dinner & Wellness Jewelry Making
DESCRIPTION:&nbsp\;\n\n\n\nSWC Wellness Dinner for people living with HIV/A
 IDS and their loved ones. Doors open at 4:30 pm for social time and  beve
 rages. Dinner served at 5:15pm. Program from 6 – 7pm.\n\nShepherd Wellne
 ss Community has updated its COVID 19 policies\, procedures\, mitigation 
 efforts and safety protocols. We no longer require proof of COVID vaccin
 ation to attend SWC events.\n\nIn response to the COVID-19 pandemic\, She
 pherd Wellness Community (SWC) has implemented policies\, procedures\, mit
 igation efforts and safety protocols informed by County\, State\, and Fede
 ral public health guidelines in addition to local health care professional
 s who advise SWC on our response to changes in the COVID-19 pandemic.\n\nI
 f you have a confirmed positive test after attending SWC\, please contact
  us immediately: 412 683 4477 or office@swconline.org. \n\nAT THIS TIME
  MASKS ARE OPTIONAL\, NOT REQUIRED\, WHEN IN THE SWC BUILDING. \n\nRegar
 dless of vaccination status\, you should isolate from others when you hav
 e tested positive for COVID-19 and before returning to SWC functions.\n\nI
 f you test positive for COVID-19\, please stay home for at least 5 days a
 nd isolate from others in your home. You are likely infectious during the 
 first 5 days.\n\nOnce symptoms begin improving you may return to SWC funct
 ions after day 5 if you are fever-free for 24 hours (without the use of f
 ever-reducing medication)\, AND you have a negative test for COVID-19.  Y
 ou must continue to mask through day 10.\n\nPlease call SWC (412 683 4477)
  with any questions\, or to confirm when you may return to SWC functions a
 fter testing positive.\n\nIf your symptoms are not improving or you had mo
 derate illness (you experienced shortness of breath or had difficulty bre
 athing) you need to continue to isolate through day 10. If you experience
 d severe illness or have a weakened immune system we request you consult y
 our doctor before returning to SWC functions.\n\nIf you are unsure if your
  symptoms are moderate or severe or if you have a weakened immune system\,
  talk to a healthcare provider for further guidance and before returning t
 o SWC functions.\nIF YOU DO NOT FEEL WELL\, PLEASE DO NOT COME TO AN IN-PE
 RSON DINNER OR PROGRAM.\nWednesday night at our center in Bloomfield\, loc
 ated at 4800 Sciota St. (S. Mathilda &amp\; Sciota)\n4:30pm - Doors open o
 n S. Mathilda St. for beverages &amp\; social time\n5:15 pm - Dinner Serve
 d\n\n6 -7pm - Wellness Jewelry Making | Join Ms. Tracey from true t pgh to
  make one of a kind jewelry. Jewelry making eliminates stress\, it helps r
 educe the risk of a heart attack and other conditions caused by stress. Ce
 rtified members and their guest are welcome. Adults only.
CATEGORIES:Program,Wellness Dinner
LOCATION:Shepherd Wellness Community\, 4800 Sciota Street\, Pittsburgh\, PA
 \, 15224\, United States
X-APPLE-STRUCTURED-LOCATION;VALUE=URI;X-ADDRESS=4800 Sciota Street\, Pittsb
 urgh\, PA\, 15224\, United States;X-APPLE-RADIUS=100;X-TITLE=Shepherd Well
 ness Community:geo:0,0
END:VEVENT
BEGIN:VTIMEZONE
TZID:America/New_York
X-LIC-LOCATION:America/New_York
BEGIN:STANDARD
DTSTART:20231105T010000
TZOFFSETFROM:-0400
TZOFFSETTO:-0500
TZNAME:EST
END:STANDARD
END:VTIMEZONE
END:VCALENDAR