BEGIN:VCALENDAR
VERSION:2.0
PRODID:-//wp-events-plugin.com//7.2.3.1//EN
TZID:America/New_York
X-WR-TIMEZONE:America/New_York
BEGIN:VEVENT
UID:4377@swconline.org
DTSTART;TZID=America/New_York:20251215T000000
DTEND;TZID=America/New_York:20251215T000000
DTSTAMP:20251113T164428Z
URL:https://swconline.org/calendar-of-events/swc-wellness-dinner-tedx-talk
 -art-for-life/
SUMMARY:SWC Wellness Dinner\, TEDx Talk & Art For Life
DESCRIPTION:SWC Wellness Dinner for people living with HIV/AIDS and their l
 oved ones. Doors open at 4:30 pm for social time and  beverages. Dinner s
 erved at 5:15pm. Dinner chat from 5:30pm - 6pm.\n\nFor information about S
 hepherd Wellness Community’s COVID-19 policies\, procedures\, mitigation
  efforts and safety protocols click here.\n\n\n\n\nMonday night at our ce
 nter in Bloomfield\, located at 4800 Sciota St. (S. Mathilda &amp\; Sciota
 )\n\n\n\n4:30pm - Doors open on Sciota St. for beverages &amp\; social tim
 e\n5:15 pm - Dinner served in our Dining Room \n\n5:30pm - Dinner &amp\; 
 TEDx Talk with group discussion | What makes us change our actions? Tali S
 harot reveals three ingredients for doing what’s good for yourself.\n6 -
 7pm: A special Art For Life program after dinner Create a unique holiday w
 reath with Brant. \n\n 	There is no meal charge for SWC-certified members\
 , their children under 18\, or for the first loved one accompanying a cert
 ified member.\n 	Additional loved ones accompany a certified member pay a 
 meal charge of only $10. Noncertified HIV+ people pay a meal charge of onl
 y $10 (after their first visit).\n 	There is no charge for programs at our
  center for our HIV+ members and their loved ones.\n\nLoved ones may atten
 d most of our programs\, however\, there is no change to our policy that H
 IV support groups are open only to HIV+ people. Some programs have adult-o
 nly content\, and guests attending our outings are welcome on a self-pay b
 asis.
CATEGORIES:Program,Wellness Dinner
LOCATION:Shepherd Wellness Community\, 4800 Sciota Street\, Pittsburgh\, PA
 \, 15224\, United States
X-APPLE-STRUCTURED-LOCATION;VALUE=URI;X-ADDRESS=4800 Sciota Street\, Pittsb
 urgh\, PA\, 15224\, United States;X-APPLE-RADIUS=100;X-TITLE=Shepherd Well
 ness Community:geo:0,0
END:VEVENT
BEGIN:VTIMEZONE
TZID:America/New_York
X-LIC-LOCATION:America/New_York
BEGIN:STANDARD
DTSTART:20251102T010000
TZOFFSETFROM:-0400
TZOFFSETTO:-0500
TZNAME:EST
END:STANDARD
END:VTIMEZONE
END:VCALENDAR