BEGIN:VCALENDAR
VERSION:2.0
PRODID:-//wp-events-plugin.com//7.2.3.1//EN
TZID:America/New_York
X-WR-TIMEZONE:America/New_York
BEGIN:VEVENT
UID:4388@swconline.org
DTSTART;TZID=America/New_York:20260112T163000
DTEND;TZID=America/New_York:20260112T193000
DTSTAMP:20251216T155957Z
URL:https://swconline.org/calendar-of-events/swc-wellness-dinner-ted-med-t
 alk/
SUMMARY:SWC Wellness Dinner & TED MED Talk
DESCRIPTION:SWC Wellness Dinner for people living with HIV/AIDS and their l
 oved ones. Doors open at 4:30 pm for social time and  beverages. Dinner s
 erved at 5:15pm. Dinner chat from 5:30pm - 6pm.\n\nFor information about S
 hepherd Wellness Community’s COVID-19 policies\, procedures\, mitigation
  efforts and safety protocols click here.\n\n\n\n\nMonday night at our ce
 nter in Bloomfield\, located at 4800 Sciota St. (S. Mathilda &amp\; Sciota
 )\n\n\n\n4:30pm - Doors open on Sciota St. for beverages &amp\; social tim
 e\n5:15 pm - Dinner served in our Dining Room \n\n5:30pm - Dinner &amp\; 
 TED MED Talk | According to Louise Aronson\, society’s negative views on
  aging create a self-fulfilling prophecy where “elderhood” is consider
 ed undesirable because of how we talk about and treat older adults. Watch 
 this TED MED talk and discuss what aging is like for you.\n\n 	There is no
  meal charge for SWC-certified members\, their children under 18\, or for 
 the first loved one accompanying a certified member.\n 	Additional loved o
 nes accompany a certified member pay a meal charge of only $10. Noncertifi
 ed HIV+ people pay a meal charge of only $10 (after their first visit).\n 
 	There is no charge for programs at our center for our HIV+ members and th
 eir loved ones.\n\nLoved ones may attend most of our programs\, however\, 
 there is no change to our policy that HIV support groups are open only to 
 HIV+ people. Some programs have adult-only content\, and guests attending 
 our outings are welcome on a self-pay basis.
CATEGORIES:Program,Wellness Dinner
LOCATION:Shepherd Wellness Community\, 4800 Sciota Street\, Pittsburgh\, PA
 \, 15224\, United States
X-APPLE-STRUCTURED-LOCATION;VALUE=URI;X-ADDRESS=4800 Sciota Street\, Pittsb
 urgh\, PA\, 15224\, United States;X-APPLE-RADIUS=100;X-TITLE=Shepherd Well
 ness Community:geo:0,0
END:VEVENT
BEGIN:VTIMEZONE
TZID:America/New_York
X-LIC-LOCATION:America/New_York
BEGIN:STANDARD
DTSTART:20251102T010000
TZOFFSETFROM:-0400
TZOFFSETTO:-0500
TZNAME:EST
END:STANDARD
END:VTIMEZONE
END:VCALENDAR