BEGIN:VCALENDAR
VERSION:2.0
PRODID:-//wp-events-plugin.com//7.2.3.1//EN
TZID:America/New_York
X-WR-TIMEZONE:America/New_York
BEGIN:VEVENT
UID:1406@swconline.org
DTSTART;TZID=America/New_York:20231023T163000
DTEND;TZID=America/New_York:20231023T190000
DTSTAMP:20230928T152132Z
URL:https://swconline.org/calendar-of-events/swc-wellness-dinner-table-top
 ic/
SUMMARY:SWC Wellness Dinner & Table Topic
DESCRIPTION:\n\nSWC Wellness Dinner for people living with HIV/AIDS and the
 ir loved ones. Doors open at 4:30 pm for social time and  beverages. Dinn
 er served at 5:15pm. Dinner chat from 5:30pm - 6pm.\n\nShepherd Wellness C
 ommunity has updated its COVID 19 policies\, procedures\, mitigation effo
 rts and safety protocols. We no longer require proof of COVID vaccinatio
 n to attend SWC events. Masking is optional.\n\nWe STRONGLY ENCOURAGE
  COVID Vaccination and Boosters for anyone eligible for them.\n\nIf you 
 have a confirmed positive test after attending SWC\, please contact us imm
 ediately: 412 683 4477 or office@swconline.org.\n\nIF YOU DO NOT FEEL WEL
 L\, PLEASE DO NOT COME TO AN IN-PERSON DINNER OR PROGRAM.\n\nMonday night 
 at our center in Bloomfield\, located at 4800 Sciota St. (S. Mathilda &amp
 \; Sciota)\n4:30pm - Doors open on S. Mathilda St. for beverages &amp\; so
 cial time\n5:15 pm - Dinner Served\n\n5:30pm - Table Topic | Table Topic i
 s a conversation learning more about your fellow members and their experie
 nces by informally discussing a suggested topic.
CATEGORIES:Wellness Dinner
LOCATION:Shepherd Wellness Community\, 4800 Sciota Street\, Pittsburgh\, PA
 \, 15224\, United States
X-APPLE-STRUCTURED-LOCATION;VALUE=URI;X-ADDRESS=4800 Sciota Street\, Pittsb
 urgh\, PA\, 15224\, United States;X-APPLE-RADIUS=100;X-TITLE=Shepherd Well
 ness Community:geo:0,0
END:VEVENT
BEGIN:VTIMEZONE
TZID:America/New_York
X-LIC-LOCATION:America/New_York
BEGIN:DAYLIGHT
DTSTART:20230312T030000
TZOFFSETFROM:-0500
TZOFFSETTO:-0400
TZNAME:EDT
END:DAYLIGHT
END:VTIMEZONE
END:VCALENDAR