BEGIN:VCALENDAR
VERSION:2.0
PRODID:-//wp-events-plugin.com//7.2.3.1//EN
TZID:America/New_York
X-WR-TIMEZONE:America/New_York
BEGIN:VEVENT
UID:1039@swconline.org
DTSTART;TZID=America/New_York:20221219T163000
DTEND;TZID=America/New_York:20221219T180000
DTSTAMP:20221117T194115Z
URL:https://swconline.org/calendar-of-events/swc-wellness-dinner-table-tal
 k-5/
SUMMARY:SWC Wellness Dinner & Table Talk
DESCRIPTION:\n\nDescription:Doors open at 4:30 pm for social time and bever
 ages\; meal served from 5:15 pm - 5:45 pm. Table Talk from 5:30 pm- 6:00 p
 m.\n\nTable Talk is an experience in supportive community. It’s a time t
 o informally discuss issues\, share experiences\, and find help and advice
  from others at your table during dinner.\n\nProof of full COVID-19 vaccin
 ation required to attend in-person dinners. Masks required unless actively
  eating.\n\nFor our non-vaccinated certified members and those who do not 
 feel comfortable attending in-person dinners\, we will provide 2 pick up m
 eals from 5:30-5:45pm from our takeout canopy while supplies last.\n\n
CATEGORIES:Wellness Dinner
END:VEVENT
BEGIN:VTIMEZONE
TZID:America/New_York
X-LIC-LOCATION:America/New_York
BEGIN:STANDARD
DTSTART:20221106T010000
TZOFFSETFROM:-0400
TZOFFSETTO:-0500
TZNAME:EST
END:STANDARD
END:VTIMEZONE
END:VCALENDAR