BEGIN:VCALENDAR
VERSION:2.0
PRODID:-//wp-events-plugin.com//7.2.3.1//EN
TZID:America/New_York
X-WR-TIMEZONE:America/New_York
BEGIN:VEVENT
UID:1604@swconline.org
DTSTART;TZID=America/New_York:20231115T163000
DTEND;TZID=America/New_York:20231115T190000
DTSTAMP:20231026T162228Z
URL:https://swconline.org/calendar-of-events/swc-wellness-dinner-spiritual
 ity-and-wellness/
SUMMARY:SWC Wellness Dinner & Spirituality and Wellness
DESCRIPTION:\n\nSWC Wellness Dinner for people living with HIV/AIDS and the
 ir loved ones. Doors open at 4:30 pm for social time and  beverages. Dinn
 er served at 5:15pm. Program from 6 – 7pm.\n\nShepherd Wellness Communit
 y has updated its COVID 19 policies\, procedures\, mitigation efforts and
  safety protocols. We no longer require proof of COVID vaccination to a
 ttend SWC events. Masking is optional.\n\nWe STRONGLY ENCOURAGE COVID 
 Vaccination and Boosters for anyone eligible for them.\n\nIf you have a c
 onfirmed positive test after attending SWC\, please contact us immediately
 : 412 683 4477 or office@swconline.org.\n\nIF YOU DO NOT FEEL WELL\, PLEA
 SE DO NOT COME TO AN IN-PERSON DINNER OR PROGRAM.\n\nWednesday night at ou
 r center in Bloomfield\, located at 4800 Sciota St. (S. Mathilda &amp\; Sc
 iota)\n4:30pm - Doors open on S. Mathilda St. for beverages &amp\; social 
 time\n5:15 pm - Dinner Served\n\n6 -7pm - Spirituality and Wellness | Join
  Spiritual Advisor Rev. Chuck Esposito for a special presentation about sp
 irituality and how it can lead to mental and physical wellness.
CATEGORIES:Program,Wellness Dinner
LOCATION:Shepherd Wellness Community\, 4800 Sciota Street\, Pittsburgh\, PA
 \, 15224\, United States
X-APPLE-STRUCTURED-LOCATION;VALUE=URI;X-ADDRESS=4800 Sciota Street\, Pittsb
 urgh\, PA\, 15224\, United States;X-APPLE-RADIUS=100;X-TITLE=Shepherd Well
 ness Community:geo:0,0
END:VEVENT
BEGIN:VTIMEZONE
TZID:America/New_York
X-LIC-LOCATION:America/New_York
BEGIN:STANDARD
DTSTART:20231105T010000
TZOFFSETFROM:-0400
TZOFFSETTO:-0500
TZNAME:EST
END:STANDARD
END:VTIMEZONE
END:VCALENDAR