BEGIN:VCALENDAR
VERSION:2.0
PRODID:-//wp-events-plugin.com//7.2.3.1//EN
TZID:America/New_York
X-WR-TIMEZONE:America/New_York
BEGIN:VEVENT
UID:1094@swconline.org
DTSTART;TZID=America/New_York:20230428T163000
DTEND;TZID=America/New_York:20230428T193000
DTSTAMP:20230417T165509Z
URL:https://swconline.org/calendar-of-events/swc-wellness-dinner-special-p
 resentation/
SUMMARY:SWC Wellness Dinner & Special Presentation
DESCRIPTION:SWC Wellness Dinner for people living with HIV/AIDS and their l
 oved ones. Doors open at 4:30 pm for social time\, beverages and appetizer
 s. Special Presentation from 5:00-6:30 pm. Dinner is served at 6:30 pm.\n\
 nShepherd Wellness Community has updated its Covid 19 policies\, procedur
 es\, mitigation efforts and safety protocols. These updates have been made
  based on current County\, State\, and Federal public health guidelines. 
 Effective immediately we will no longer require proof of vaccination to
  attend SWC events.  We have simplified and revised our Covid 19 waiver w
 hich will continue to be required at in-person dinners and programs.\n\nMa
 sking will remain optional when the CDC lists community risk as low in A
 llegheny County. If community risk levels move to medium or higher we will
  once again require masking except when eating or drinking.\n\nWe STRONGL
 Y ENCOURAGE Covid Vaccination and Boosters for anyone eligible for them
 .\n\nWhen the community risk rate is listed as high as determined by the 
 CDC we will require a NEGATIVE COVID rapid test\, taken that day\, to att
 end each in-person dinner/program. Please refer to our weekly newsletter/e
 mail or contact the SWC Office directly if you need to verify if testing i
 s being required. To receive our emails please sign up on the front page o
 f this website.\n\nWhen testing is required you must either present your t
 est result (or a photo)\, taken at home that day\, when you check in. SWC 
 will have tests available for you to take on arrival. Please plan accordin
 gly – IF YOU REQUIRE TESTING AT SWC\, you must arrive no later than 5:2
 5 pm on Monday or Wednesday evenings\, and no later than 6:45pm on Friday 
 evenings. We have COVID-19 rapid tests for you to take home\, please req
 uest them from a staff member if needed.\n\nIf you have a confirmed positi
 ve test after attending SWC\, please contact us immediately: 412 683 4477 
 or office@swconline.org.\n\nWe will monitor COVID-19 and will update you 
 if additional changes to our programs become necessary.\n\nIF YOU DO NOT F
 EEL WELL\, PLEASE DO NOT COME TO AN IN-PERSON DINNER OR PROGRAM.\n\nFriday
  night at our center in Bloomfield\, located at 4800 Sciota St. (S. Mathil
 da &amp\; Sciota)\n4:30pm - Doors open on S. Mathilda St. for beverages &a
 mp\; social time\n4:30pm - Appetizers served\n5:00pm - Special Presentatio
 n | A presentation before dinner with Tammi about SPBP (Pharmaceutical Ben
 efits) program updates and services.\n6:30pm - Dinner served in our Dining
  room
CATEGORIES:Program,Wellness Dinner
LOCATION:Shepherd Wellness Community\, 4800 Sciota Street\, Pittsburgh\, PA
 \, 15224\, United States
X-APPLE-STRUCTURED-LOCATION;VALUE=URI;X-ADDRESS=4800 Sciota Street\, Pittsb
 urgh\, PA\, 15224\, United States;X-APPLE-RADIUS=100;X-TITLE=Shepherd Well
 ness Community:geo:0,0
END:VEVENT
BEGIN:VTIMEZONE
TZID:America/New_York
X-LIC-LOCATION:America/New_York
BEGIN:DAYLIGHT
DTSTART:20230312T030000
TZOFFSETFROM:-0500
TZOFFSETTO:-0400
TZNAME:EDT
END:DAYLIGHT
END:VTIMEZONE
END:VCALENDAR