BEGIN:VCALENDAR
VERSION:2.0
PRODID:-//wp-events-plugin.com//7.2.3.1//EN
TZID:America/New_York
X-WR-TIMEZONE:America/New_York
BEGIN:VEVENT
UID:1032@swconline.org
DTSTART;TZID=America/New_York:20221104T163000
DTEND;TZID=America/New_York:20221104T193000
DTSTAMP:20221024T200421Z
URL:https://swconline.org/calendar-of-events/swc-wellness-dinner-special-d
 ementia-friends-presentation/
SUMMARY:SWC Wellness Dinner & Special Dementia Friends Presentation
DESCRIPTION:SWC Wellness Dinner for people living with HIV/AIDS and their l
 oved ones. Doors open at 4:30 pm for social time\, beverages and appetizer
 s.\n\nProof of COVID-19 vaccination required. Masks are optional when Alle
 gheny County community spread is low\; mask required when in medium and hi
 gh.\n\nIf you have a confirmed positive test after attending SWC\, pleas
 e contact us immediately: 412 683 4477 or office@swconline.org.\n\nA HEAL
 TH QUESTIONNAIRE AND WAIVER OF LIABILITY will be completed and signed at c
 heck-in each time you come into our center. IF YOU DO NOT FEEL WELL\, PLEA
 SE DO NOT COME TO AN IN-PERSON DINNER.\n\nFriday night at our center in Bl
 oomfield\, located at 4800 Sciota St. (S. Mathilda &amp\; Sciota)\n4:30pm 
 - Doors open on S. Mathilda St. for beverages &amp\; social time\n4:30pm -
  Appetizers served\n5:00pm - Special Dementia Friends Presentation | A 5pm
  presentation before dinner with Dementia Friends about dealing with demen
 tia and resources for wellness.\n6:30pm - Dinner served in our Dining room
CATEGORIES:Wellness Dinner
LOCATION:Shepherd Wellness Community\, 4800 Sciota Street\, Pittsburgh\, PA
 \, 15224\, United States
X-APPLE-STRUCTURED-LOCATION;VALUE=URI;X-ADDRESS=4800 Sciota Street\, Pittsb
 urgh\, PA\, 15224\, United States;X-APPLE-RADIUS=100;X-TITLE=Shepherd Well
 ness Community:geo:0,0
END:VEVENT
BEGIN:VTIMEZONE
TZID:America/New_York
X-LIC-LOCATION:America/New_York
BEGIN:DAYLIGHT
DTSTART:20220313T030000
TZOFFSETFROM:-0500
TZOFFSETTO:-0400
TZNAME:EDT
END:DAYLIGHT
END:VTIMEZONE
END:VCALENDAR