BEGIN:VCALENDAR
VERSION:2.0
PRODID:-//wp-events-plugin.com//7.2.3.1//EN
TZID:America/New_York
X-WR-TIMEZONE:America/New_York
BEGIN:VEVENT
UID:1369@swconline.org
DTSTART;TZID=America/New_York:20230809T163000
DTEND;TZID=America/New_York:20230809T190000
DTSTAMP:20230725T162351Z
URL:https://swconline.org/calendar-of-events/swc-wellness-dinner-special-1
 -hour-hiv-support-group-3/
SUMMARY:SWC Wellness Dinner & Special 1 Hour HIV Support Group
DESCRIPTION:SWC Wellness Dinner for people living with HIV/AIDS and their l
 oved ones. Doors open at 4:30 pm for social time and  beverages. Dinner s
 erved at 5:15pm. Special HIV Support Group  from 6 – 7pm.\n\nShepherd W
 ellness Community has updated its COVID 19 policies\, procedures\, mitiga
 tion efforts and safety protocols. We no longer require proof of COVID v
 accination to attend SWC events. Masking is optional.\n\nWe STRONGLY E
 NCOURAGE COVID Vaccination and Boosters for anyone eligible for them.\n\
 nIf you have a confirmed positive test after attending SWC\, please contac
 t us immediately: 412 683 4477 or office@swconline.org.\n\nIF YOU DO NOT 
 FEEL WELL\, PLEASE DO NOT COME TO AN IN-PERSON DINNER OR PROGRAM.\n\nWedne
 sday night at our center in Bloomfield\, located at 4800 Sciota St. (S. Ma
 thilda &amp\; Sciota)\n4:30pm - Doors open on S. Mathilda St. for beverage
 s &amp\; social time\n5:15 pm - Dinner Served\n\n6 -7pm -  HIV Support Gr
 oup | A special 1-hour support group offered this week due to\nSWC Annual 
 Member meeting on Friday\, August 11th.
CATEGORIES:Program,Wellness Dinner
END:VEVENT
BEGIN:VTIMEZONE
TZID:America/New_York
X-LIC-LOCATION:America/New_York
BEGIN:DAYLIGHT
DTSTART:20230312T030000
TZOFFSETFROM:-0500
TZOFFSETTO:-0400
TZNAME:EDT
END:DAYLIGHT
END:VTIMEZONE
END:VCALENDAR