BEGIN:VCALENDAR
VERSION:2.0
PRODID:-//wp-events-plugin.com//7.2.3.1//EN
TZID:America/New_York
X-WR-TIMEZONE:America/New_York
BEGIN:VEVENT
UID:4149@swconline.org
DTSTART;TZID=America/New_York:20241016T163000
DTEND;TZID=America/New_York:20241016T190000
DTSTAMP:20240926T200139Z
URL:https://swconline.org/calendar-of-events/swc-wellness-dinner-line-danc
 ing-3/
SUMMARY:SWC Wellness Dinner & Line Dancing
DESCRIPTION:\n\nSWC Wellness Dinner for people living with HIV/AIDS and the
 ir loved ones. Doors open at 4:30 pm for social time and  beverages. Dinn
 er served at 5:15pm. Program from 6 – 7pm.\n\nShepherd Wellness Communit
 y has updated its COVID 19 policies\, procedures\, mitigation efforts and
  safety protocols. We no longer require proof of COVID vaccination to a
 ttend SWC events.\nFor information about Shepherd Wellness Community’s C
 OVID-19 policies\, procedures\, mitigation efforts and safety protocols cl
 ick here.\n\n\nWednesday night at our center in Bloomfield\, located at 4
 800 Sciota St. (S. Mathilda &amp\; Sciota)\n\n\n4:30pm - Doors open on S. 
 Mathilda St. for beverages &amp\; social time\n5:15 pm - Dinner Served\n\n
 6 -7pm - Line Dancing | Join professional dancer Hazell for line dancing.
  This form of dance has many benefits such as improved balance\, coordinat
 ion\, weight loss\, and mental health benefits. Each certified member comp
 leting this program receives a $5 gift card. Certified members and their g
 uest are welcome. Adults only.\n\n 	There is no meal charge for SWC-certif
 ied members\, their children under 18\, or for the first loved one accompa
 nying a certified member.\n 	Additional loved ones accompany a certified m
 ember pay a meal charge of only $10. Noncertified HIV+ people pay a meal c
 harge of only $10 (after their first visit).\n 	There is no charge for pro
 grams at our center for our HIV+ members and their loved ones.\n\nLoved on
 es may attend most of our programs\, however\, there is no change to our p
 olicy that HIV support groups are open only to HIV+ people. Some programs 
 have adult-only content\, and guests attending our outings are welcome on 
 a self-pay basis.
CATEGORIES:Program,Wellness Dinner
LOCATION:Shepherd Wellness Community\, 4800 Sciota Street\, Pittsburgh\, PA
 \, 15224\, United States
X-APPLE-STRUCTURED-LOCATION;VALUE=URI;X-ADDRESS=4800 Sciota Street\, Pittsb
 urgh\, PA\, 15224\, United States;X-APPLE-RADIUS=100;X-TITLE=Shepherd Well
 ness Community:geo:0,0
END:VEVENT
BEGIN:VTIMEZONE
TZID:America/New_York
X-LIC-LOCATION:America/New_York
BEGIN:DAYLIGHT
DTSTART:20240310T030000
TZOFFSETFROM:-0500
TZOFFSETTO:-0400
TZNAME:EDT
END:DAYLIGHT
END:VTIMEZONE
END:VCALENDAR