BEGIN:VCALENDAR
VERSION:2.0
PRODID:-//wp-events-plugin.com//7.2.3.1//EN
TZID:America/New_York
X-WR-TIMEZONE:America/New_York
BEGIN:VEVENT
UID:4103@swconline.org
DTSTART;TZID=America/New_York:20240717T163000
DTEND;TZID=America/New_York:20240717T190000
DTSTAMP:20240620T153319Z
URL:https://swconline.org/calendar-of-events/swc-wellness-dinner-line-danc
 ing-2/
SUMMARY:SWC Wellness Dinner & Line Dancing
DESCRIPTION:\n\nSWC Wellness Dinner for people living with HIV/AIDS and the
 ir loved ones. Doors open at 4:30 pm for social time and  beverages. Dinn
 er served at 5:15pm. Program from 6 – 7pm.\n\nShepherd Wellness Communit
 y has updated its COVID 19 policies\, procedures\, mitigation efforts and
  safety protocols. We no longer require proof of COVID vaccination to a
 ttend SWC events.\nFor information about Shepherd Wellness Community’s C
 OVID-19 policies\, procedures\, mitigation efforts and safety protocols cl
 ick here.\n\n\nWednesday night at our center in Bloomfield\, located at 4
 800 Sciota St. (S. Mathilda &amp\; Sciota)\n\n\n4:30pm - Doors open on S. 
 Mathilda St. for beverages &amp\; social time\n5:15 pm - Dinner Served\n\n
 6 -7pm - Line Dancing | Join professional dancer Hazell for line dancing.
  This form of dance has many benefits such as improved mental health benef
 its and improved cardiovascular health. Each certified member completing t
 his program receives a $5 gift card. Certified members and their guest are
  welcome.\n\n 	There is no meal charge for SWC-certified members\, their c
 hildren under 18\, or for the first loved one accompanying a certified mem
 ber.\n 	Additional loved ones accompany a certified member pay a meal char
 ge of only $10. Noncertified HIV+ people pay a meal charge of only $10 (af
 ter their first visit).\n 	There is no charge for programs at our center f
 or our HIV+ members and their loved ones.\n\nLoved ones may attend most of
  our programs\, however\, there is no change to our policy that HIV suppor
 t groups are open only to HIV+ people. Some programs have adult-only conte
 nt\, and guests attending our outings are welcome on a self-pay basis.
CATEGORIES:Program,Wellness Dinner
LOCATION:Shepherd Wellness Community\, 4800 Sciota Street\, Pittsburgh\, PA
 \, 15224\, United States
X-APPLE-STRUCTURED-LOCATION;VALUE=URI;X-ADDRESS=4800 Sciota Street\, Pittsb
 urgh\, PA\, 15224\, United States;X-APPLE-RADIUS=100;X-TITLE=Shepherd Well
 ness Community:geo:0,0
END:VEVENT
BEGIN:VTIMEZONE
TZID:America/New_York
X-LIC-LOCATION:America/New_York
BEGIN:DAYLIGHT
DTSTART:20240310T030000
TZOFFSETFROM:-0500
TZOFFSETTO:-0400
TZNAME:EDT
END:DAYLIGHT
END:VTIMEZONE
END:VCALENDAR