BEGIN:VCALENDAR
VERSION:2.0
PRODID:-//wp-events-plugin.com//7.2.3.1//EN
TZID:America/New_York
X-WR-TIMEZONE:America/New_York
BEGIN:VEVENT
UID:1329@swconline.org
DTSTART;TZID=America/New_York:20230329T163000
DTEND;TZID=America/New_York:20230329T190000
DTSTAMP:20230323T175406Z
URL:https://swconline.org/calendar-of-events/swc-wellness-dinner-holistic-
 health-demonstration-2/
SUMMARY:SWC Wellness Dinner & Holistic Health Demonstration
DESCRIPTION:SWC Wellness Dinner for people living with HIV/AIDS and their l
 oved ones. Doors open at 4:30 pm for social time and  beverages. Dinner s
 erved at 5:15pm. Program from 6 - 7pm.\n\nShepherd Wellness Community has 
 updated its Covid 19 policies\, procedures\, mitigation efforts and safet
 y protocols. These updates have been made based on current County\, State\
 , and Federal public health guidelines. Effective immediately we will no
  longer require proof of vaccination to attend SWC events.  We have sim
 plified and revised our Covid 19 waiver which will continue to be required
  at in-person dinners and programs.\n\nMasking will remain optional when 
 the CDC lists community risk as low in Allegheny County. If community ris
 k levels move to medium or higher we will once again require masking excep
 t when eating or drinking.\n\nWe STRONGLY ENCOURAGE Covid Vaccination a
 nd Boosters for anyone eligible for them.\n\nWhen the community risk rate
  is listed as high as determined by the CDC we will require a NEGATIVE CO
 VID rapid test\, taken that day\, to attend each in-person dinner/program
 . Please refer to our weekly newsletter/email or contact the SWC Office di
 rectly if you need to verify if testing is being required. To receive our 
 emails please sign up on the front page of this website.\n\nWhen testing i
 s required you must either present your test result (or a photo)\, taken a
 t home that day\, when you check in. SWC will have tests available for you
  to take on arrival. Please plan accordingly – IF YOU REQUIRE TESTING A
 T SWC\, you must arrive no later than 5:25 pm on Monday or Wednesday eveni
 ngs\, and no later than 6:45pm on Friday evenings. We have COVID-19 rapi
 d tests for you to take home\, please request them from a staff member if 
 needed.\n\nIf you have a confirmed positive test after attending SWC\, ple
 ase contact us immediately: 412 683 4477 or office@swconline.org.\n\nWe w
 ill monitor COVID-19 and will update you if additional changes to our prog
 rams become necessary.\n\nIF YOU DO NOT FEEL WELL\, PLEASE DO NOT COME TO 
 AN IN-PERSON DINNER OR PROGRAM.\n\nWednesday night at our center in Bloomf
 ield\, located at 4800 Sciota St. (S. Mathilda &amp\; Sciota)\nJoin us for
  an uplifting social time\, HIV support group followed by a nutritious din
 ner.\n4:30pm - Doors open on S. Mathilda St. for beverages &amp\; social t
 ime\n5:15 pm - Dinner Served\n6 -7pm - Holistic Health Demonstration  | M
 andi B will lead a demonstration on how to make wellness smoothies that ca
 n help clean out your body. Each certified member completing this program 
 will receive a $5 gift card.
CATEGORIES:Program,Wellness Dinner
END:VEVENT
BEGIN:VTIMEZONE
TZID:America/New_York
X-LIC-LOCATION:America/New_York
BEGIN:DAYLIGHT
DTSTART:20230312T030000
TZOFFSETFROM:-0500
TZOFFSETTO:-0400
TZNAME:EDT
END:DAYLIGHT
END:VTIMEZONE
END:VCALENDAR