BEGIN:VCALENDAR
VERSION:2.0
PRODID:-//wp-events-plugin.com//7.2.3.1//EN
TZID:America/New_York
X-WR-TIMEZONE:America/New_York
BEGIN:VEVENT
UID:37@swconline.org
DTSTART;TZID=America/New_York:20210827T163000
DTEND;TZID=America/New_York:20210827T183000
DTSTAMP:20210809T213233Z
URL:https://swconline.org/calendar-of-events/swc-wellness-dinner-hiv-suppo
 rt-group/
SUMMARY:SWC Wellness Dinner & HIV Support Group
DESCRIPTION:\n\nSWC Wellness Dinner for people living with HIV/AIDS and the
 ir loved ones. Doors open at 4:30 pm for social time\, beverages and appet
 izers. HIV Support Group from 5:00-6:30 pm. Dinner is served at 6:30 pm.\n
 \nProof of full COVID-19 vaccination required to attend in-person dinners.
  Masks required unless actively eating.\n\nFor our non-vaccinated certifie
 d members and those who do not feel comfortable attending in-person dinner
 s\, we will provide 2 pick up meals from 5:30-5:45pm from our takeout cano
 py while supplies last.\n\n
CATEGORIES:Wellness Dinner
END:VEVENT
BEGIN:VTIMEZONE
TZID:America/New_York
X-LIC-LOCATION:America/New_York
BEGIN:DAYLIGHT
DTSTART:20210314T030000
TZOFFSETFROM:-0500
TZOFFSETTO:-0400
TZNAME:EDT
END:DAYLIGHT
END:VTIMEZONE
END:VCALENDAR