BEGIN:VCALENDAR
VERSION:2.0
PRODID:-//wp-events-plugin.com//7.2.3.1//EN
TZID:America/New_York
X-WR-TIMEZONE:America/New_York
BEGIN:VEVENT
UID:1666@swconline.org
DTSTART;TZID=America/New_York:20240329T163000
DTEND;TZID=America/New_York:20240329T193000
DTSTAMP:20240320T190643Z
URL:https://swconline.org/calendar-of-events/swc-wellness-dinner-hiv-suppo
 rt-group-83/
SUMMARY:SWC Wellness Dinner & HIV Support Group
DESCRIPTION:\n\nSWC Wellness Dinner for people living with HIV/AIDS and the
 ir loved ones. Doors open at 4:30 pm for social time\, appetizers\, and  
 beverages. Support Group at 5pm. Dinner served at 6:30pm.\n\nShepherd Well
 ness Community has updated its COVID 19 policies\, procedures\, mitigatio
 n efforts and safety protocols. We no longer require proof of COVID vacc
 ination to attend SWC events.\nFor information about Shepherd Wellness Co
 mmunity’s COVID-19 policies\, procedures\, mitigation efforts and safety
  protocols click here.\nFriday night at our center in Bloomfield\, locate
 d at 4800 Sciota St. (S. Mathilda &amp\; Sciota)\nJoin us for an uplifting
  social time\, HIV support group followed by a nutritious dinner.\n4:30pm 
 - Doors open on S. Mathilda St. for beverages &amp\; social time\n4:30pm -
  Appetizers served\n5:00pm - HIV support group (Zoom option available)\n6:
 30pm - Dinner served in our Dining room\n\n 	There is no meal charge for S
 WC-certified members\, their children under 18\, or for the first loved on
 e accompanying a certified member.\n 	Additional loved ones accompany a ce
 rtified member pay a meal charge of only $10. Noncertified HIV+ people pay
  a meal charge of only $10 (after their first visit).\n 	There is no charg
 e for programs at our center for our HIV+ members and their loved ones.\n\
 nLoved ones may attend most of our programs\, however\, there is no change
  to our policy that HIV support groups are open only to HIV+ people. Some 
 programs have adult-only content\, and guests attending our outings are we
 lcome on a self-pay basis.
CATEGORIES:Wellness Dinner
LOCATION:Shepherd Wellness Community\, 4800 Sciota Street\, Pittsburgh\, PA
 \, 15224\, United States
X-APPLE-STRUCTURED-LOCATION;VALUE=URI;X-ADDRESS=4800 Sciota Street\, Pittsb
 urgh\, PA\, 15224\, United States;X-APPLE-RADIUS=100;X-TITLE=Shepherd Well
 ness Community:geo:0,0
END:VEVENT
BEGIN:VTIMEZONE
TZID:America/New_York
X-LIC-LOCATION:America/New_York
BEGIN:DAYLIGHT
DTSTART:20240310T030000
TZOFFSETFROM:-0500
TZOFFSETTO:-0400
TZNAME:EDT
END:DAYLIGHT
END:VTIMEZONE
END:VCALENDAR