BEGIN:VCALENDAR
VERSION:2.0
PRODID:-//wp-events-plugin.com//7.2.3.1//EN
TZID:America/New_York
X-WR-TIMEZONE:America/New_York
BEGIN:VEVENT
UID:1656@swconline.org
DTSTART;TZID=America/New_York:20240202T163000
DTEND;TZID=America/New_York:20240202T193000
DTSTAMP:20240202T203340Z
URL:https://swconline.org/calendar-of-events/swc-wellness-dinner-hiv-suppo
 rt-group-73/
SUMMARY:SWC Wellness Dinner & HIV Support Group
DESCRIPTION:\n\nSWC Wellness Dinner for people living with HIV/AIDS and the
 ir loved ones. Doors open at 4:30 pm for social time\, appetizers\, and  
 beverages. Support Group at 5pm. Dinner served at 6:30pm.\n\nShepherd Well
 ness Community has updated its COVID 19 policies\, procedures\, mitigatio
 n efforts and safety protocols. We no longer require proof of COVID vacc
 ination to attend SWC events.\n\nIn response to the COVID-19 pandemic\, S
 hepherd Wellness Community (SWC) has implemented policies\, procedures\, m
 itigation efforts and safety protocols informed by County\, State\, and Fe
 deral public health guidelines in addition to local health care profession
 als who advise SWC on our response to changes in the COVID-19 pandemic.\n\
 nIf you have a confirmed positive test after attending SWC\, please conta
 ct us immediately: 412 683 4477 or office@swconline.org. \n\nAt this ti
 me SWC is requiring that all members\, staff\, visitors\, and volunteers 
 be masked while in our building\, except when seated and actively eating 
 and drinking.  Using a N95 quality mask is preferred. \n\nRegardless of 
 vaccination status\, you should isolate from others when you have tested 
 positive for COVID-19 and before returning to SWC functions.\n\nIf you tes
 t positive for COVID-19\, please stay home for at least 5 days and isolat
 e from others in your home. You are likely infectious during the first 5 d
 ays.\n\nOnce symptoms begin improving you may return to SWC functions afte
 r day 5 if you are fever-free for 24 hours (without the use of fever-redu
 cing medication)\, AND you have a negative test for COVID-19.  You must c
 ontinue to mask through day 10.\n\nPlease call SWC (412 683 4477) with any
  questions\, or to confirm when you may return to SWC functions after test
 ing positive.\n\nIf your symptoms are not improving or you had moderate il
 lness (you experienced shortness of breath or had difficulty breathing) y
 ou need to continue to isolate through day 10. If you experienced severe 
 illness or have a weakened immune system we request you consult your docto
 r before returning to SWC functions.\n\nIf you are unsure if your symptoms
  are moderate or severe or if you have a weakened immune system\, talk to 
 a healthcare provider for further guidance and before returning to SWC fun
 ctions.\nIF YOU DO NOT FEEL WELL\, PLEASE DO NOT COME TO AN IN-PERSON DINN
 ER OR PROGRAM.\nFriday night at our center in Bloomfield\, located at 4800
  Sciota St. (S. Mathilda &amp\; Sciota)\nJoin us for an uplifting social t
 ime\, HIV support group followed by a nutritious dinner.\n4:30pm - Doors o
 pen on S. Mathilda St. for beverages &amp\; social time\n4:30pm - Appetize
 rs served\n5:00pm - HIV support group (Zoom option available)\n6:30pm - Di
 nner served in our Dining room
CATEGORIES:Program,Wellness Dinner
LOCATION:Shepherd Wellness Community\, 4800 Sciota Street\, Pittsburgh\, PA
 \, 15224\, United States
X-APPLE-STRUCTURED-LOCATION;VALUE=URI;X-ADDRESS=4800 Sciota Street\, Pittsb
 urgh\, PA\, 15224\, United States;X-APPLE-RADIUS=100;X-TITLE=Shepherd Well
 ness Community:geo:0,0
END:VEVENT
BEGIN:VTIMEZONE
TZID:America/New_York
X-LIC-LOCATION:America/New_York
BEGIN:STANDARD
DTSTART:20231105T010000
TZOFFSETFROM:-0400
TZOFFSETTO:-0500
TZNAME:EST
END:STANDARD
END:VTIMEZONE
END:VCALENDAR