BEGIN:VCALENDAR
VERSION:2.0
PRODID:-//wp-events-plugin.com//7.2.3.1//EN
TZID:America/New_York
X-WR-TIMEZONE:America/New_York
BEGIN:VEVENT
UID:1629@swconline.org
DTSTART;TZID=America/New_York:20240105T163000
DTEND;TZID=America/New_York:20240105T193000
DTSTAMP:20231212T174549Z
URL:https://swconline.org/calendar-of-events/swc-wellness-dinner-hiv-suppo
 rt-group-72/
SUMMARY:SWC Wellness Dinner & HIV Support Group
DESCRIPTION:&nbsp\;\n\n\n\nSWC Wellness Dinner for people living with HIV/A
 IDS and their loved ones. Doors open at 4:30 pm for social time\, appetize
 rs\, and  beverages. Support Group at 5pm. Dinner served at 6:30pm.\n\nSh
 epherd Wellness Community has updated its COVID 19 policies\, procedures\
 , mitigation efforts and safety protocols. We no longer require proof of
  COVID vaccination to attend SWC events. Masking is optional.\n\nWe STR
 ONGLY ENCOURAGE COVID Vaccination and Boosters for anyone eligible for 
 them.\n\nIf you have a confirmed positive test after attending SWC\, pleas
 e contact us immediately: 412 683 4477 or office@swconline.org.\n\nIF YOU
  DO NOT FEEL WELL\, PLEASE DO NOT COME TO AN IN-PERSON DINNER OR PROGRAM.\
 n\nFriday night at our center in Bloomfield\, located at 4800 Sciota St. (
 S. Mathilda &amp\; Sciota)\nJoin us for an uplifting social time\, HIV sup
 port group followed by a nutritious dinner.\n4:30pm - Doors open on S. Mat
 hilda St. for beverages &amp\; social time\n4:30pm - Appetizers served\n5:
 00pm - HIV support group (Zoom option available)\n6:30pm - Dinner served i
 n our Dining room
CATEGORIES:Wellness Dinner
LOCATION:Shepherd Wellness Community\, 4800 Sciota Street\, Pittsburgh\, PA
 \, 15224\, United States
X-APPLE-STRUCTURED-LOCATION;VALUE=URI;X-ADDRESS=4800 Sciota Street\, Pittsb
 urgh\, PA\, 15224\, United States;X-APPLE-RADIUS=100;X-TITLE=Shepherd Well
 ness Community:geo:0,0
END:VEVENT
BEGIN:VTIMEZONE
TZID:America/New_York
X-LIC-LOCATION:America/New_York
BEGIN:STANDARD
DTSTART:20231105T010000
TZOFFSETFROM:-0400
TZOFFSETTO:-0500
TZNAME:EST
END:STANDARD
END:VTIMEZONE
END:VCALENDAR