BEGIN:VCALENDAR
VERSION:2.0
PRODID:-//wp-events-plugin.com//7.2.3.1//EN
TZID:America/New_York
X-WR-TIMEZONE:America/New_York
BEGIN:VEVENT
UID:1396@swconline.org
DTSTART;TZID=America/New_York:20231020T163000
DTEND;TZID=America/New_York:20231020T193000
DTSTAMP:20230928T151823Z
URL:https://swconline.org/calendar-of-events/swc-wellness-dinner-hiv-suppo
 rt-group-65/
SUMMARY:SWC Wellness Dinner & HIV Support Group
DESCRIPTION:\n\nSWC Wellness Dinner for people living with HIV/AIDS and the
 ir loved ones. Doors open at 4:30 pm for social time\, appetizers\, and  
 beverages. Support Group at 5pm. Dinner served at 6:30pm.\n\nShepherd Well
 ness Community has updated its COVID 19 policies\, procedures\, mitigatio
 n efforts and safety protocols. We no longer require proof of COVID vacc
 ination to attend SWC events. Masking is optional.\n\nWe STRONGLY ENCO
 URAGE COVID Vaccination and Boosters for anyone eligible for them.\n\nIf
  you have a confirmed positive test after attending SWC\, please contact u
 s immediately: 412 683 4477 or office@swconline.org.\n\nIF YOU DO NOT FEE
 L WELL\, PLEASE DO NOT COME TO AN IN-PERSON DINNER OR PROGRAM.\n\nFriday n
 ight at our center in Bloomfield\, located at 4800 Sciota St. (S. Mathilda
  &amp\; Sciota)\nJoin us for an uplifting social time\, HIV support group 
 followed by a nutritious dinner.\n4:30pm - Doors open on S. Mathilda St. f
 or beverages &amp\; social time\n4:30pm - Appetizers served\n5:00pm - HIV 
 support group (Zoom option available)\n6:30pm - Dinner served in our Dinin
 g room
CATEGORIES:Wellness Dinner
LOCATION:Shepherd Wellness Community\, 4800 Sciota Street\, Pittsburgh\, PA
 \, 15224\, United States
X-APPLE-STRUCTURED-LOCATION;VALUE=URI;X-ADDRESS=4800 Sciota Street\, Pittsb
 urgh\, PA\, 15224\, United States;X-APPLE-RADIUS=100;X-TITLE=Shepherd Well
 ness Community:geo:0,0
END:VEVENT
BEGIN:VTIMEZONE
TZID:America/New_York
X-LIC-LOCATION:America/New_York
BEGIN:DAYLIGHT
DTSTART:20230312T030000
TZOFFSETFROM:-0500
TZOFFSETTO:-0400
TZNAME:EDT
END:DAYLIGHT
END:VTIMEZONE
END:VCALENDAR