BEGIN:VCALENDAR
VERSION:2.0
PRODID:-//wp-events-plugin.com//7.2.3.1//EN
TZID:America/New_York
X-WR-TIMEZONE:America/New_York
BEGIN:VEVENT
UID:937@swconline.org
DTSTART;TZID=America/New_York:20220506T163000
DTEND;TZID=America/New_York:20220506T193000
DTSTAMP:20220504T140344Z
URL:https://swconline.org/calendar-of-events/swc-wellness-dinner-hiv-suppo
 rt-group-6/
SUMMARY:SWC Wellness Dinner & HIV Support Group
DESCRIPTION:SWC Wellness Dinner for people living with HIV/AIDS and their l
 oved ones. Doors open at 4:30 pm for social time\, beverages and appetizer
 s. HIV Support Group from 5:00-6:30 pm. Dinner is served at 6:30 pm.\n\nPr
 oof of COVID-19 vaccination required. Masks required unless seated and act
 ively eating and drinking.\n\nA HEALTH QUESTIONNAIRE AND WAIVER OF LIABILI
 TY will be completed and signed at check-in each time you come into our ce
 nter. IF YOU DO NOT FEEL WELL\, PLEASE DO NOT COME TO AN IN-PERSON DINNER.
 \n\nFriday night at our center in Bloomfield\, located at 4800 Sciota St. 
 (S. Mathilda &amp\; Sciota)\nJoin us for an uplifting social time\, HIV su
 pport group followed by a nutritious dinner.\n4:30pm - Doors open on S. Ma
 thilda St. for beverages &amp\; social time\n4:30pm - Appetizers served\n5
 :00pm - HIV support group in the Activities room (Zoom option available)\n
 6:30pm - Dinner served in our Dining room\n\nReservations for Friday Welln
 ess Dinners\n(because of social distancing)\n\nReservations are made by ca
 lling the SWC office (412-683-4477) and speaking to a staff member or leav
 ing a voicemail. You can also email us at office@swconline.org to make a r
 eservation. Reservations accepted for the Friday dinner that week.\n\nYou 
 may make a reservation for yourself and one loved one. Vaccination\, maski
 ng\, and questionnaire/waiver requirements apply.\nYou may also make reser
 vations for your children under 18 (as their parent or legal guardian). Va
 ccination and masking requirements apply.\n\nReservations taken on a first
  come/first served basis. If we have reached our maximum\, we will put you
  on a waiting list and call you by the day of the dinner if there is a can
 cellation.\n\nIf you need to cancel your reservation\, please call the off
 ice by Noon on Friday\, to give us time to call those on the waiting list.
 \n\nIf you come without a reservation we will make every effort to accommo
 date you\, space permitting.
CATEGORIES:Wellness Dinner
LOCATION:Shepherd Wellness Community\, 4800 Sciota Street\, Pittsburgh\, PA
 \, 15224\, United States
X-APPLE-STRUCTURED-LOCATION;VALUE=URI;X-ADDRESS=4800 Sciota Street\, Pittsb
 urgh\, PA\, 15224\, United States;X-APPLE-RADIUS=100;X-TITLE=Shepherd Well
 ness Community:geo:0,0
END:VEVENT
BEGIN:VTIMEZONE
TZID:America/New_York
X-LIC-LOCATION:America/New_York
BEGIN:DAYLIGHT
DTSTART:20220313T030000
TZOFFSETFROM:-0500
TZOFFSETTO:-0400
TZNAME:EDT
END:DAYLIGHT
END:VTIMEZONE
END:VCALENDAR