BEGIN:VCALENDAR
VERSION:2.0
PRODID:-//wp-events-plugin.com//7.2.3.1//EN
TZID:America/New_York
X-WR-TIMEZONE:America/New_York
BEGIN:VEVENT
UID:1375@swconline.org
DTSTART;TZID=America/New_York:20230818T163000
DTEND;TZID=America/New_York:20230818T193000
DTSTAMP:20230725T163107Z
URL:https://swconline.org/calendar-of-events/swc-wellness-dinner-hiv-suppo
 rt-group-56/
SUMMARY:SWC Wellness Dinner & HIV Support Group
DESCRIPTION:SWC Wellness Dinner for people living with HIV/AIDS and their l
 oved ones. Doors open at 4:30 pm for social time\, appetizers\, and  beve
 rages. Support Group at 5pm. Dinner served at 6:30pm.\n\nShepherd Wellness
  Community has updated its COVID 19 policies\, procedures\, mitigation ef
 forts and safety protocols. We no longer require proof of COVID vaccinat
 ion to attend SWC events. Masking is optional.\n\nWe STRONGLY ENCOURAG
 E COVID Vaccination and Boosters for anyone eligible for them.\n\nIf you
  have a confirmed positive test after attending SWC\, please contact us im
 mediately: 412 683 4477 or office@swconline.org.\n\nIF YOU DO NOT FEEL WE
 LL\, PLEASE DO NOT COME TO AN IN-PERSON DINNER OR PROGRAM.\n\nFriday night
  at our center in Bloomfield\, located at 4800 Sciota St. (S. Mathilda &am
 p\; Sciota)\nJoin us for an uplifting social time\, HIV support group foll
 owed by a nutritious dinner.\n4:30pm - Doors open on S. Mathilda St. for b
 everages &amp\; social time\n4:30pm - Appetizers served\n5:00pm - HIV supp
 ort group (Zoom option available)\n6:30pm - Dinner served in our Dining ro
 om
CATEGORIES:Wellness Dinner
LOCATION:Shepherd Wellness Community\, 4800 Sciota Street\, Pittsburgh\, PA
 \, 15224\, United States
X-APPLE-STRUCTURED-LOCATION;VALUE=URI;X-ADDRESS=4800 Sciota Street\, Pittsb
 urgh\, PA\, 15224\, United States;X-APPLE-RADIUS=100;X-TITLE=Shepherd Well
 ness Community:geo:0,0
END:VEVENT
BEGIN:VTIMEZONE
TZID:America/New_York
X-LIC-LOCATION:America/New_York
BEGIN:DAYLIGHT
DTSTART:20230312T030000
TZOFFSETFROM:-0500
TZOFFSETTO:-0400
TZNAME:EDT
END:DAYLIGHT
END:VTIMEZONE
END:VCALENDAR