BEGIN:VCALENDAR
VERSION:2.0
PRODID:-//wp-events-plugin.com//7.2.3.1//EN
TZID:America/New_York
X-WR-TIMEZONE:America/New_York
BEGIN:VEVENT
UID:1364@swconline.org
DTSTART;TZID=America/New_York:20230707T163000
DTEND;TZID=America/New_York:20230707T193000
DTSTAMP:20230629T142917Z
URL:https://swconline.org/calendar-of-events/swc-wellness-dinner-hiv-suppo
 rt-group-51/
SUMMARY:SWC Wellness Dinner & HIV Support Group
DESCRIPTION:SWC will be relocating temporarily while our building undergoes
  repairs to our sewage system.  Wellness dinners and programs will be hel
 d at the Pittsburgh Theological Seminary located at 616 N. Highland Avenue
 \, Pittsburgh\, PA 15206 (just north of Home Depot and across from Obama A
 cademy). \n\nWhen arriving at the seminary\, there will be signs to guide
  you to our exact location. Our dinners are being held in Long Hall and ev
 eryone should enter using the covered walkway between Long Hall and McNaug
 her Hall.\n\nParking is available on N. Highland Ave or on the seminary ca
 mpus.\n\nIf parking on N. Highland Ave or taking the bus\, walk thru the s
 outh gateway (closer to Home Depot) and go to the covered walkway. You can
  make a left to Long Hall and follow the signage to our location.\n\nIf pa
 rking on the campus\, construction has closed several driveway entrances t
 o the campus. Going north on Highland Avenue\, use the drive/entrance just
  past the Chapel\, then drive down past the chapel (on your right) and dri
 ve around the back to the right and park near the end closest to McNaugher
  Hall (please see the area marked “campus parking” on the PTS Campus 
 Map). All parking up the slope before the covered walkway leading to Long 
 Hall is handicap parking.   Go to the covered walkway and make a right i
 nto Long Hall and follow the signs to our location.\n\nSWC Wellness Dinner
  for people living with HIV/AIDS and their loved ones. Doors open at 4:30 
 pm for social time\, appetizers\, and  beverages. Support Group at 5pm. D
 inner served at 6:30pm.\n\nWe STRONGLY ENCOURAGE Covid Vaccination and 
 Boosters for anyone eligible for them. Vaccination is not required at this
  time to attend SWC events. \n\nIf you have a confirmed positive test aft
 er attending SWC\, please contact us immediately: 412 683 4477 or office@
 swconline.org.\n\nWe will monitor COVID-19 and will update you if addition
 al changes to our programs become necessary.\n\nIF YOU DO NOT FEEL WELL\, 
 PLEASE DO NOT COME TO AN IN-PERSON DINNER OR PROGRAM.\n\nFriday night at P
 ittsburgh Theological Seminary (PTS)\, located at 616 N. Highland Avenue\,
  Pittsburgh\, PA 15206 (just north of Home Depot and across from Obama Aca
 demy).\nJoin us for an uplifting social time\, HIV support group followed 
 by a nutritious dinner.\n4:30pm - Doors open at PTS  for beverages &amp\;
  social time\n4:30pm - Appetizers served\n5:00pm - HIV support group (Zoom
  option available)\n6:30pm - Dinner served in "Shak" dining room
CATEGORIES:Wellness Dinner
LOCATION:Shepherd Wellness Community\, 4800 Sciota Street\, Pittsburgh\, PA
 \, 15224\, United States
X-APPLE-STRUCTURED-LOCATION;VALUE=URI;X-ADDRESS=4800 Sciota Street\, Pittsb
 urgh\, PA\, 15224\, United States;X-APPLE-RADIUS=100;X-TITLE=Shepherd Well
 ness Community:geo:0,0
END:VEVENT
BEGIN:VTIMEZONE
TZID:America/New_York
X-LIC-LOCATION:America/New_York
BEGIN:DAYLIGHT
DTSTART:20230312T030000
TZOFFSETFROM:-0500
TZOFFSETTO:-0400
TZNAME:EDT
END:DAYLIGHT
END:VTIMEZONE
END:VCALENDAR