BEGIN:VCALENDAR
VERSION:2.0
PRODID:-//wp-events-plugin.com//7.2.3.1//EN
TZID:America/New_York
X-WR-TIMEZONE:America/New_York
BEGIN:VEVENT
UID:1347@swconline.org
DTSTART;TZID=America/New_York:20230623T163000
DTEND;TZID=America/New_York:20230623T193000
DTSTAMP:20230615T210501Z
URL:https://swconline.org/calendar-of-events/swc-wellness-dinner-hiv-suppo
 rt-group-50/
SUMMARY:SWC Wellness Dinner & HIV Support Group
DESCRIPTION:SWC will be relocating temporarily while our building undergoes
  repairs to our sewage system.  Wellness dinners and programs will be hel
 d at the Pittsburgh Theological Seminary located at 616 N. Highland Avenue
 \, Pittsburgh\, PA 15206 (just north of Home Depot and across from Obama A
 cademy). \n\nWhen arriving at the seminary\, there will be signs to guide
  you to our exact location.\nParking is available on N. Highland Ave or on
  the seminary campus.\nIf parking on N. Highland Ave or taking the bus\, w
 alk thru the south gateway (closer to Home Depot) and go to the covered wa
 lkway.\n\nFridays make a right to McNaugher Hall.\n\nIf parking on the ca
 mpus\, construction has closed several driveway entrances to the campus. G
 oing north on Highland Avenue\, use the drive/entrance just past the Chape
 l\, then drive down past the chapel (on your right) and drive around the b
 ack to the right to park near the end\, before the small hill up to the Mc
 Naugher Hall building. All parking up the slope next to McNaugher Hall is 
 handicap parking.   Go to the covered walkway for entrance to either McN
 augher Hall or Long Hall. \nSWC Wellness Dinner for people living with HI
 V/AIDS and their loved ones. Doors open at 4:30 pm for social time and  b
 everages. Dinner served at 5:15pm. Program from 6 - 7pm.\n\nWe STRONGLY 
 ENCOURAGE Covid Vaccination and Boosters for anyone eligible for them. Vac
 cination is not required at this time to attend SWC events. \n\nIf you ha
 ve a confirmed positive test after attending SWC\, please contact us immed
 iately: 412 683 4477 or office@swconline.org.\n\nWe will monitor COVID-19
  and will update you if additional changes to our programs become necessar
 y.\n\nIF YOU DO NOT FEEL WELL\, PLEASE DO NOT COME TO AN IN-PERSON DINNER 
 OR PROGRAM.\n\nFriday night at Pittsburgh Theological Seminary (PTS) \, lo
 cated at 616 N. Highland Avenue\, Pittsburgh\, PA 15206 (just north of Hom
 e Depot and across from Obama Academy).\nJoin us for an uplifting social t
 ime\, HIV support group followed by a nutritious dinner.\n4:30pm - Doors o
 pen at PTS  for beverages &amp\; social time\n4:30pm - Appetizers served\
 n5:00pm - HIV support group (Zoom option available)\n6:30pm - Dinner serve
 d
CATEGORIES:Wellness Dinner
LOCATION:Shepherd Wellness Community\, 4800 Sciota Street\, Pittsburgh\, PA
 \, 15224\, United States
X-APPLE-STRUCTURED-LOCATION;VALUE=URI;X-ADDRESS=4800 Sciota Street\, Pittsb
 urgh\, PA\, 15224\, United States;X-APPLE-RADIUS=100;X-TITLE=Shepherd Well
 ness Community:geo:0,0
END:VEVENT
BEGIN:VTIMEZONE
TZID:America/New_York
X-LIC-LOCATION:America/New_York
BEGIN:DAYLIGHT
DTSTART:20230312T030000
TZOFFSETFROM:-0500
TZOFFSETTO:-0400
TZNAME:EDT
END:DAYLIGHT
END:VTIMEZONE
END:VCALENDAR