BEGIN:VCALENDAR
VERSION:2.0
PRODID:-//wp-events-plugin.com//7.2.3.1//EN
TZID:America/New_York
X-WR-TIMEZONE:America/New_York
BEGIN:VEVENT
UID:1346@swconline.org
DTSTART;TZID=America/New_York:20230616T163000
DTEND;TZID=America/New_York:20230616T193000
DTSTAMP:20230609T134647Z
URL:https://swconline.org/calendar-of-events/swc-wellness-dinner-hiv-suppo
 rt-group-49/
SUMMARY:Dinner Cancelled | Virtual Only HIV Support Group
DESCRIPTION:Support group for Friday June 16th will be virtual only via Zoo
 m.\n\nWhile our building undergoes repairs to our sewer system\, dinners a
 nd wellness programs will continue as much as possible at another location
 : when and where is yet to be determined. Please watch for email updates 
 as we formalize plans.\n\nTo access the support groups virtually either vi
 a phone or video conference please see below:\n\nTo call-in to the SWC HIV
 /AIDS support group:\n1. Dial +1 (646) 558-8656\n2. When prompted\, type 
 in Meeting ID 333 774 750\, followed by the # sign.\nPlease note: Meeting 
 ID is specific to the day and facilitator\n3. If asked for Participant ID 
 number\, just enter the # sign.\n4. You will be entered into a waiting roo
 m until the moderator admits you. Once admitted\, announce your first name
  and join the meeting.\n5. If you wish to leave the meeting\, simply hang 
 up your phone.\nTo video conference to the SWC HIV/AIDS Support Group:\n1.
  Click on the link below and follow the instructions on your computer scre
 en: https://zoom.us/j/333774750 (Please note the first time you access a
  meeting using zoom video conferencing you will need to allow extra time t
 o download the zoom application and your device should have both video and
  audio capabilities.)\n2. You will be entered into a waiting room until th
 e moderator admits you. Once admitted\, announce your first name and join 
 the meeting.\n3. If you wish to leave the meeting\, simply click the end m
 eeting button on your screen.\nShepherd Wellness Community\nSupport Group 
 for People Living with HIV\n1. Facilitator – The facilitator does not a
 ct as a therapist or give medical advice. The facilitator directs the grou
 p to make sure that the guidelines are followed and assists members in fin
 ding support\, encouragement and help from each other through the sharing 
 process.\n2. Confidentiality - Everything shared in the group is confiden
 tial and is not to leave the group. For Virtual Meetings - A word about pr
 ivacy: when we are meeting in person\, it is easy to ensure that the group
  is meeting in a private place. When joining virtually\, please remember t
 o choose a private place to join the group. Group members need the assuran
 ce that you are in a private location - out of ear shot of family\, friend
 s\, and household members.\n3. Sharing - Sharing is encouraged\, but not 
 required.\n4. Give Everyone Time to Speak when possible - Groups are most
  beneficial when all participants have the opportunity to share. Members m
 ust be mindful of limited time and give each person enough time to partici
 pate.\n5. Avoid Disruptions - Members must give supportive attention to t
 he person who is speaking. Please remove outside distractions and turn off
  all cell phones and unrelated electronics.\n6. Respectful Discussion - T
 he group does not discuss group members who are not present. Discussion sh
 ould avoid condemning\, shaming\, and blaming.\n7. Drug and Alcohol Use -
   We are happy to provide a virtual connection to support group so that w
 e can stay connected even when we can't be together in person. Shepherd We
 llness Community's Code of Conduct outlines what we all need to do to crea
 te a safe environment for everyone. That being said\, we ask that you refr
 ain from drug or alcohol use before or during group. If you are struggling
  with a substance use challenge\, let us know. We will help you get the he
 lp you need.
CATEGORIES:Wellness Dinner
LOCATION:Shepherd Wellness Community\, 4800 Sciota Street\, Pittsburgh\, PA
 \, 15224\, United States
X-APPLE-STRUCTURED-LOCATION;VALUE=URI;X-ADDRESS=4800 Sciota Street\, Pittsb
 urgh\, PA\, 15224\, United States;X-APPLE-RADIUS=100;X-TITLE=Shepherd Well
 ness Community:geo:0,0
END:VEVENT
BEGIN:VTIMEZONE
TZID:America/New_York
X-LIC-LOCATION:America/New_York
BEGIN:DAYLIGHT
DTSTART:20230312T030000
TZOFFSETFROM:-0500
TZOFFSETTO:-0400
TZNAME:EDT
END:DAYLIGHT
END:VTIMEZONE
END:VCALENDAR