BEGIN:VCALENDAR
VERSION:2.0
PRODID:-//wp-events-plugin.com//7.2.3.1//EN
TZID:America/New_York
X-WR-TIMEZONE:America/New_York
BEGIN:VEVENT
UID:1345@swconline.org
DTSTART;TZID=America/New_York:20230609T163000
DTEND;TZID=America/New_York:20230609T193000
DTSTAMP:20230609T134556Z
URL:https://swconline.org/calendar-of-events/swc-wellness-dinner-hiv-suppo
 rt-group-48/
SUMMARY:Dinner Cancelled | Virtual Only HIV Support Group
DESCRIPTION:Support group for Friday June 9th and Friday June 16th will be 
 virtual only via Zoom.\n\nWhile our building undergoes repairs to our sewe
 r system\, dinners and wellness programs will continue as much as possible
  at another location: when and where is yet to be determined. Please watch
  for email updates as we formalize plans.\n\nTo access the support groups
  virtually either via phone or video conference please see below:\n\nTo ca
 ll-in to the SWC HIV/AIDS support group:\n1. Dial +1 (646) 558-8656\n2. W
 hen prompted\, type in Meeting ID 333 774 750\, followed by the # sign.\nP
 lease note: Meeting ID is specific to the day and facilitator\n3. If asked
  for Participant ID number\, just enter the # sign.\n4. You will be entere
 d into a waiting room until the moderator admits you. Once admitted\, anno
 unce your first name and join the meeting.\n5. If you wish to leave the me
 eting\, simply hang up your phone.\nTo video conference to the SWC HIV/AID
 S Support Group:\n1. Click on the link below and follow the instructions o
 n your computer screen: https://zoom.us/j/333774750 (Please note the fir
 st time you access a meeting using zoom video conferencing you will need t
 o allow extra time to download the zoom application and your device should
  have both video and audio capabilities.)\n2. You will be entered into a w
 aiting room until the moderator admits you. Once admitted\, announce your 
 first name and join the meeting.\n3. If you wish to leave the meeting\, si
 mply click the end meeting button on your screen.\nShepherd Wellness Commu
 nity\nSupport Group for People Living with HIV\n1. Facilitator – The fa
 cilitator does not act as a therapist or give medical advice. The facilita
 tor directs the group to make sure that the guidelines are followed and as
 sists members in finding support\, encouragement and help from each other 
 through the sharing process.\n2. Confidentiality - Everything shared in t
 he group is confidential and is not to leave the group. For Virtual Meetin
 gs - A word about privacy: when we are meeting in person\, it is easy to e
 nsure that the group is meeting in a private place. When joining virtually
 \, please remember to choose a private place to join the group. Group memb
 ers need the assurance that you are in a private location - out of ear sho
 t of family\, friends\, and household members.\n3. Sharing - Sharing is e
 ncouraged\, but not required.\n4. Give Everyone Time to Speak when possibl
 e - Groups are most beneficial when all participants have the opportunity
  to share. Members must be mindful of limited time and give each person en
 ough time to participate.\n5. Avoid Disruptions - Members must give suppo
 rtive attention to the person who is speaking. Please remove outside distr
 actions and turn off all cell phones and unrelated electronics.\n6. Respec
 tful Discussion - The group does not discuss group members who are not pr
 esent. Discussion should avoid condemning\, shaming\, and blaming.\n7. Dru
 g and Alcohol Use -  We are happy to provide a virtual connection to sup
 port group so that we can stay connected even when we can't be together in
  person. Shepherd Wellness Community's Code of Conduct outlines what we al
 l need to do to create a safe environment for everyone. That being said\, 
 we ask that you refrain from drug or alcohol use before or during group. I
 f you are struggling with a substance use challenge\, let us know. We will
  help you get the help you need.
CATEGORIES:Wellness Dinner
LOCATION:Shepherd Wellness Community\, 4800 Sciota Street\, Pittsburgh\, PA
 \, 15224\, United States
X-APPLE-STRUCTURED-LOCATION;VALUE=URI;X-ADDRESS=4800 Sciota Street\, Pittsb
 urgh\, PA\, 15224\, United States;X-APPLE-RADIUS=100;X-TITLE=Shepherd Well
 ness Community:geo:0,0
END:VEVENT
BEGIN:VTIMEZONE
TZID:America/New_York
X-LIC-LOCATION:America/New_York
BEGIN:DAYLIGHT
DTSTART:20230312T030000
TZOFFSETFROM:-0500
TZOFFSETTO:-0400
TZNAME:EDT
END:DAYLIGHT
END:VTIMEZONE
END:VCALENDAR