BEGIN:VCALENDAR
VERSION:2.0
PRODID:-//wp-events-plugin.com//7.2.3.1//EN
TZID:America/New_York
X-WR-TIMEZONE:America/New_York
BEGIN:VEVENT
UID:1332@swconline.org
DTSTART;TZID=America/New_York:20230519T163000
DTEND;TZID=America/New_York:20230519T190000
DTSTAMP:20230417T175702Z
URL:https://swconline.org/calendar-of-events/swc-wellness-dinner-hiv-suppo
 rt-group-45/
SUMMARY:Recognition  For Bernie Highling
DESCRIPTION:SWC will honor Bernie Highling with a Drop In Retirement Recogn
 ition from 4:30-7:00 pm with a buffet of heavy hors d’oeuvres and an opp
 ortunity to greet Bernie and wish him well. No RSVP needed. We will also d
 edicate our 35th anniversary art commission this night.\n\nShepherd Wellne
 ss Community has updated its Covid 19 policies\, procedures\, mitigation 
 efforts and safety protocols. These updates have been made based on curren
 t County\, State\, and Federal public health guidelines. Effective immedi
 ately we will no longer require proof of vaccination to attend SWC even
 ts.  We have simplified and revised our Covid 19 waiver which will contin
 ue to be required at in-person dinners and programs.\n\nMasking will remai
 n optional when the CDC lists community risk as low in Allegheny County.
  If community risk levels move to medium or higher we will once again requ
 ire masking except when eating or drinking.\n\nWe STRONGLY ENCOURAGE Co
 vid Vaccination and Boosters for anyone eligible for them.\n\nWhen the co
 mmunity risk rate is listed as high as determined by the CDC we will requ
 ire a NEGATIVE COVID rapid test\, taken that day\, to attend each in-pers
 on dinner/program. Please refer to our weekly newsletter/email or contact 
 the SWC Office directly if you need to verify if testing is being required
 . To receive our emails please sign up on the front page of this website.\
 n\nWhen testing is required you must either present your test result (or a
  photo)\, taken at home that day\, when you check in. SWC will have tests 
 available for you to take on arrival. Please plan accordingly – IF YOU 
 REQUIRE TESTING AT SWC\, you must arrive no later than 5:25 pm on Monday o
 r Wednesday evenings\, and no later than 6:45pm on Friday evenings. We h
 ave COVID-19 rapid tests for you to take home\, please request them from a
  staff member if needed.\n\nIf you have a confirmed positive test after at
 tending SWC\, please contact us immediately: 412 683 4477 or office@swcon
 line.org.\n\nWe will monitor COVID-19 and will update you if additional ch
 anges to our programs become necessary.\n\nIF YOU DO NOT FEEL WELL\, PLEAS
 E DO NOT COME TO AN IN-PERSON DINNER OR PROGRAM.\n\n&nbsp\;
CATEGORIES:Special Event
LOCATION:Shepherd Wellness Community\, 4800 Sciota Street\, Pittsburgh\, PA
 \, 15224\, United States
X-APPLE-STRUCTURED-LOCATION;VALUE=URI;X-ADDRESS=4800 Sciota Street\, Pittsb
 urgh\, PA\, 15224\, United States;X-APPLE-RADIUS=100;X-TITLE=Shepherd Well
 ness Community:geo:0,0
END:VEVENT
BEGIN:VTIMEZONE
TZID:America/New_York
X-LIC-LOCATION:America/New_York
BEGIN:DAYLIGHT
DTSTART:20230312T030000
TZOFFSETFROM:-0500
TZOFFSETTO:-0400
TZNAME:EDT
END:DAYLIGHT
END:VTIMEZONE
END:VCALENDAR