BEGIN:VCALENDAR
VERSION:2.0
PRODID:-//wp-events-plugin.com//7.2.3.1//EN
TZID:America/New_York
X-WR-TIMEZONE:America/New_York
BEGIN:VEVENT
UID:1079@swconline.org
DTSTART;TZID=America/New_York:20230324T163000
DTEND;TZID=America/New_York:20230324T193000
DTSTAMP:20230317T175005Z
URL:https://swconline.org/calendar-of-events/swc-wellness-dinner-hiv-suppo
 rt-group-41/
SUMMARY:SWC Wellness Dinner & HIV Support Group
DESCRIPTION:SWC Wellness Dinner for people living with HIV/AIDS and their l
 oved ones. Doors open at 4:30 pm for social time\, beverages and appetizer
 s. HIV Support Group from 5:00-6:30 pm. Dinner is served at 6:30 pm.\n\nSh
 epherd Wellness Community has updated its Covid 19 policies\, procedures\
 , mitigation efforts and safety protocols. These updates have been made ba
 sed on current County\, State\, and Federal public health guidelines. Eff
 ective immediately we will no longer require proof of vaccination to at
 tend SWC events.  We have simplified and revised our Covid 19 waiver whic
 h will continue to be required at in-person dinners and programs.\n\nMaski
 ng will remain optional when the CDC lists community risk as low in Alle
 gheny County. If community risk levels move to medium or higher we will on
 ce again require masking except when eating or drinking.\n\nWe STRONGLY 
 ENCOURAGE Covid Vaccination and Boosters for anyone eligible for them.\n
 \nWhen the community risk rate is listed as high as determined by the CDC
  we will require a NEGATIVE COVID rapid test\, taken that day\, to attend
  each in-person dinner/program. Please refer to our weekly newsletter/emai
 l or contact the SWC Office directly if you need to verify if testing is b
 eing required. To receive our emails please sign up on the front page of t
 his website.\n\nWhen testing is required you must either present your test
  result (or a photo)\, taken at home that day\, when you check in. SWC wil
 l have tests available for you to take on arrival. Please plan accordingly
  – IF YOU REQUIRE TESTING AT SWC\, you must arrive no later than 5:25 p
 m on Monday or Wednesday evenings\, and no later than 6:45pm on Friday eve
 nings. We have COVID-19 rapid tests for you to take home\, please reques
 t them from a staff member if needed.\n\nIf you have a confirmed positive 
 test after attending SWC\, please contact us immediately: 412 683 4477 or
  office@swconline.org.\n\nWe will monitor COVID-19 and will update you if
  additional changes to our programs become necessary.\n\nIF YOU DO NOT FEE
 L WELL\, PLEASE DO NOT COME TO AN IN-PERSON DINNER OR PROGRAM.\n\nFriday n
 ight at our center in Bloomfield\, located at 4800 Sciota St. (S. Mathilda
  &amp\; Sciota)\nJoin us for an uplifting social time\, HIV support group 
 followed by a nutritious dinner.\n4:30pm - Doors open on S. Mathilda St. f
 or beverages &amp\; social time\n4:30pm - Appetizers served\n5:00pm - HIV 
 support group (Zoom option available)\n6:30pm - Dinner served in our Dinin
 g room
CATEGORIES:Wellness Dinner
LOCATION:Shepherd Wellness Community\, 4800 Sciota Street\, Pittsburgh\, PA
 \, 15224\, United States
X-APPLE-STRUCTURED-LOCATION;VALUE=URI;X-ADDRESS=4800 Sciota Street\, Pittsb
 urgh\, PA\, 15224\, United States;X-APPLE-RADIUS=100;X-TITLE=Shepherd Well
 ness Community:geo:0,0
END:VEVENT
BEGIN:VTIMEZONE
TZID:America/New_York
X-LIC-LOCATION:America/New_York
BEGIN:DAYLIGHT
DTSTART:20230312T030000
TZOFFSETFROM:-0500
TZOFFSETTO:-0400
TZNAME:EDT
END:DAYLIGHT
END:VTIMEZONE
END:VCALENDAR