BEGIN:VCALENDAR
VERSION:2.0
PRODID:-//wp-events-plugin.com//7.2.3.1//EN
TZID:America/New_York
X-WR-TIMEZONE:America/New_York
BEGIN:VEVENT
UID:1061@swconline.org
DTSTART;TZID=America/New_York:20230210T163000
DTEND;TZID=America/New_York:20230210T193000
DTSTAMP:20230117T165439Z
URL:https://swconline.org/calendar-of-events/swc-wellness-dinner-hiv-suppo
 rt-group-34/
SUMMARY:SWC Wellness Dinner & HIV Support Group
DESCRIPTION:SWC Wellness Dinner for people living with HIV/AIDS and their l
 oved ones. Doors open at 4:30 pm for social time\, beverages and appetizer
 s. HIV Support Group from 5:00-6:30 pm. Dinner is served at 6:30 pm.\n\nPr
 oof of COVID-19 vaccination required. Masks are optional when Allegheny Co
 unty community spread is low\; mask required when in medium and high.\n\nI
 f you have a confirmed positive test after attending SWC\, please contac
 t us immediately: 412 683 4477 or office@swconline.org.\n\nA HEALTH QUEST
 IONNAIRE AND WAIVER OF LIABILITY will be completed and signed at check-in 
 each time you come into our center. IF YOU DO NOT FEEL WELL\, PLEASE DO NO
 T COME TO AN IN-PERSON DINNER.\n\nFriday night at our center in Bloomfield
 \, located at 4800 Sciota St. (S. Mathilda &amp\; Sciota)\nJoin us for an 
 uplifting social time\, HIV support group followed by a nutritious dinner.
 \n4:30pm - Doors open on S. Mathilda St. for beverages &amp\; social time\
 n4:30pm - Appetizers served\n5:00pm - HIV support group (Zoom option avail
 able)\n6:30pm - Dinner served in our Dining room
CATEGORIES:Wellness Dinner
LOCATION:Shepherd Wellness Community\, 4800 Sciota Street\, Pittsburgh\, PA
 \, 15224\, United States
X-APPLE-STRUCTURED-LOCATION;VALUE=URI;X-ADDRESS=4800 Sciota Street\, Pittsb
 urgh\, PA\, 15224\, United States;X-APPLE-RADIUS=100;X-TITLE=Shepherd Well
 ness Community:geo:0,0
END:VEVENT
BEGIN:VTIMEZONE
TZID:America/New_York
X-LIC-LOCATION:America/New_York
BEGIN:STANDARD
DTSTART:20221106T010000
TZOFFSETFROM:-0400
TZOFFSETTO:-0500
TZNAME:EST
END:STANDARD
END:VTIMEZONE
END:VCALENDAR