BEGIN:VCALENDAR
VERSION:2.0
PRODID:-//wp-events-plugin.com//7.2.3.1//EN
TZID:America/New_York
X-WR-TIMEZONE:America/New_York
BEGIN:VEVENT
UID:898@swconline.org
DTSTART;TZID=America/New_York:20220422T163000
DTEND;TZID=America/New_York:20220422T190000
DTSTAMP:20220331T192107Z
URL:https://swconline.org/calendar-of-events/swc-wellness-dinner-hiv-suppo
 rt-group-2022-04-22/
SUMMARY:SWC Wellness Dinner & HIV Support Group
DESCRIPTION:SWC Wellness Dinner for people living with HIV/AIDS and their l
 oved ones. Doors open at 4:30 pm for social time\, beverages and appetizer
 s. HIV Support Group from 5:00-6:30 pm. Dinner is served at 6:30 pm.\n\nPr
 oof of COVID-19 vaccination required. Masks required unless seated and act
 ively eating and drinking.\n\nA HEALTH QUESTIONNAIRE AND WAIVER OF LIABILI
 TY will be completed and signed at check-in each time you come into our ce
 nter. IF YOU DO NOT FEEL WELL\, PLEASE DO NOT COME TO AN IN-PERSON DINNER.
 \n\nThe care and support of our members is always our priority. To allow s
 afe social distancing\, we will be dining in the Activities Room and using
  the Sciota Street doors to enter (handicap entrance through the courtyard
 ).\n\nOur maximum seating is 40. To prevent members from being turned away
  because of lack of available seating\, we are using a required reservatio
 n process to attend.\n\nReservations must be made by calling the SWC offic
 e (412-683-4477) and speaking directly to a staff member on Wednesday or T
 hursday from 9:30am - 3pm (no emails or voicemails accepted) to make reser
 vations for the Friday dinner that week.\n\n&nbsp\;
LOCATION:Shepherd Wellness Community\, 4800 Sciota Street\, Pittsburgh\, PA
 \, 15224\, United States
X-APPLE-STRUCTURED-LOCATION;VALUE=URI;X-ADDRESS=4800 Sciota Street\, Pittsb
 urgh\, PA\, 15224\, United States;X-APPLE-RADIUS=100;X-TITLE=Shepherd Well
 ness Community:geo:0,0
END:VEVENT
BEGIN:VTIMEZONE
TZID:America/New_York
X-LIC-LOCATION:America/New_York
BEGIN:DAYLIGHT
DTSTART:20220313T030000
TZOFFSETFROM:-0500
TZOFFSETTO:-0400
TZNAME:EDT
END:DAYLIGHT
END:VTIMEZONE
END:VCALENDAR