BEGIN:VCALENDAR
VERSION:2.0
PRODID:-//wp-events-plugin.com//7.2.3.1//EN
TZID:America/New_York
X-WR-TIMEZONE:America/New_York
BEGIN:VEVENT
UID:944@swconline.org
DTSTART;TZID=America/New_York:20220603T163000
DTEND;TZID=America/New_York:20220603T193000
DTSTAMP:20220601T172818Z
URL:https://swconline.org/calendar-of-events/swc-wellness-dinner-hiv-suppo
 rt-group-2/
SUMMARY:SWC Wellness Dinner & HIV Support Group
DESCRIPTION:SWC Wellness Dinner for people living with HIV/AIDS and their l
 oved ones. Doors open at 4:30 pm for social time\, beverages and appetizer
 s. HIV Support Group from 5:00-6:30 pm. Dinner is served at 6:30 pm.\n\nPr
 oof of COVID-19 vaccination required. Masks required unless seated and act
 ively eating and drinking.\n\nWith safety as a priority as infection rates
  rise\, SWC is now requiring a NEGATIVE COVID rapid test\, taken that day\
 , to attend each in-person dinner/program. Present your test result (or a 
 photo)\, taken at home that day\, when you check in. SWC will also have te
 sts available for you to take on arrival. Test results take 15 minutes. Pl
 ease plan accordingly for the extra time needed to take the test and await
  results.\n\nIf you have a confirmed positive test after attending SWC\, p
 lease contact us immediately: 412 683 4477 or office@swconline.org.\n\nA H
 EALTH QUESTIONNAIRE AND WAIVER OF LIABILITY will be completed and signed a
 t check-in each time you come into our center. IF YOU DO NOT FEEL WELL\, P
 LEASE DO NOT COME TO AN IN-PERSON DINNER.\n\nFriday night at our center in
  Bloomfield\, located at 4800 Sciota St. (S. Mathilda &amp\; Sciota)\nJoin
  us for an uplifting social time\, HIV support group followed by a nutriti
 ous dinner.\n4:30pm - Doors open on S. Mathilda St. for beverages &amp\; s
 ocial time\n4:30pm - Appetizers served\n5:00pm - HIV support group in the 
 Activities room (Zoom option available)\n6:30pm - Dinner served in our Din
 ing room
CATEGORIES:Wellness Dinner
LOCATION:Shepherd Wellness Community\, 4800 Sciota Street\, Pittsburgh\, PA
 \, 15224\, United States
X-APPLE-STRUCTURED-LOCATION;VALUE=URI;X-ADDRESS=4800 Sciota Street\, Pittsb
 urgh\, PA\, 15224\, United States;X-APPLE-RADIUS=100;X-TITLE=Shepherd Well
 ness Community:geo:0,0
END:VEVENT
BEGIN:VTIMEZONE
TZID:America/New_York
X-LIC-LOCATION:America/New_York
BEGIN:DAYLIGHT
DTSTART:20220313T030000
TZOFFSETFROM:-0500
TZOFFSETTO:-0400
TZNAME:EDT
END:DAYLIGHT
END:VTIMEZONE
END:VCALENDAR