BEGIN:VCALENDAR
VERSION:2.0
PRODID:-//wp-events-plugin.com//7.2.3.1//EN
TZID:America/New_York
X-WR-TIMEZONE:America/New_York
BEGIN:VEVENT
UID:1407@swconline.org
DTSTART;TZID=America/New_York:20231030T163000
DTEND;TZID=America/New_York:20231030T190000
DTSTAMP:20230928T152446Z
URL:https://swconline.org/calendar-of-events/swc-wellness-dinner-ghost-and
 -ghoul-bingo/
SUMMARY:SWC Wellness Dinner & Ghost and Ghoul Bingo
DESCRIPTION:\n\nShepherd Wellness Community has updated its COVID 19 polic
 ies\, procedures\, mitigation efforts and safety protocols. We no longer 
 require proof of COVID vaccination to attend SWC events. Masking is opt
 ional.\n\nWe STRONGLY ENCOURAGE COVID Vaccination and Boosters for anyo
 ne eligible for them.\n\nIf you have a confirmed positive test after atte
 nding SWC\, please contact us immediately: 412 683 4477 or office@swconli
 ne.org.\n\nIF YOU DO NOT FEEL WELL\, PLEASE DO NOT COME TO AN IN-PERSON DI
 NNER OR PROGRAM.\n\nMonday night at our center in Bloomfield\, located at 
 4800 Sciota St. (S. Mathilda &amp\; Sciota)\n4:30pm - Doors open on S. Mat
 hilda St. for beverages &amp\; social time\n5:15 pm - Dinner Served\n\n5:3
 0pm - Ghost &amp\; Ghoul Bingo | Boost your mental wellness playing spooky
  games of bingo after dinner with prizes! Wear a costume and get a prize f
 or scariest and funniest.
CATEGORIES:Wellness Dinner
LOCATION:Shepherd Wellness Community\, 4800 Sciota Street\, Pittsburgh\, PA
 \, 15224\, United States
X-APPLE-STRUCTURED-LOCATION;VALUE=URI;X-ADDRESS=4800 Sciota Street\, Pittsb
 urgh\, PA\, 15224\, United States;X-APPLE-RADIUS=100;X-TITLE=Shepherd Well
 ness Community:geo:0,0
END:VEVENT
BEGIN:VTIMEZONE
TZID:America/New_York
X-LIC-LOCATION:America/New_York
BEGIN:DAYLIGHT
DTSTART:20230312T030000
TZOFFSETFROM:-0500
TZOFFSETTO:-0400
TZNAME:EDT
END:DAYLIGHT
END:VTIMEZONE
END:VCALENDAR