BEGIN:VCALENDAR
VERSION:2.0
PRODID:-//wp-events-plugin.com//7.2.3.1//EN
TZID:America/New_York
X-WR-TIMEZONE:America/New_York
BEGIN:VEVENT
UID:36@swconline.org
DTSTART;TZID=America/New_York:20210825T163000
DTEND;TZID=America/New_York:20210825T190000
DTSTAMP:20210809T213119Z
URL:https://swconline.org/calendar-of-events/swc-wellness-dinner-game-nigh
 t-brain-challenge/
SUMMARY:SWC Wellness Dinner & Game Night Brain Challenge
DESCRIPTION:\n\nDoors open at 4:30 pm for social time and beverages\; meal 
 served from 5:15 pm - 5:45 pm. Program from 6:00 pm- 7:00 pm.\n\nBoost you
 r mental wellness with a laughter-filled evening playing the brain-stimula
 ting game of Pictionary. Adults only.\n\n\nProof of full COVID-19 vaccinat
 ion required to attend in-person dinners. Masks required unless actively e
 ating.\n\n\nFor our non-vaccinated certified members and those who do not 
 feel comfortable attending in-person dinners\, we will provide 2 pick up m
 eals from 5:30-5:45pm from our takeout canopy while supplies last.\n\n
CATEGORIES:Wellness Dinner
END:VEVENT
BEGIN:VTIMEZONE
TZID:America/New_York
X-LIC-LOCATION:America/New_York
BEGIN:DAYLIGHT
DTSTART:20210314T030000
TZOFFSETFROM:-0500
TZOFFSETTO:-0400
TZNAME:EDT
END:DAYLIGHT
END:VTIMEZONE
END:VCALENDAR