BEGIN:VCALENDAR
VERSION:2.0
PRODID:-//wp-events-plugin.com//7.2.3.1//EN
TZID:America/New_York
X-WR-TIMEZONE:America/New_York
BEGIN:VEVENT
UID:1353@swconline.org
DTSTART;TZID=America/New_York:20230621T163000
DTEND;TZID=America/New_York:20230621T190000
DTSTAMP:20230615T210247Z
URL:https://swconline.org/calendar-of-events/swc-wellness-dinner-floral-de
 sign/
SUMMARY:SWC Wellness Dinner & Floral Design
DESCRIPTION:SWC will be relocating temporarily while our building undergoes
  repairs to our sewage system.  Wellness dinners and programs will be hel
 d at the Pittsburgh Theological Seminary located at 616 N. Highland Avenue
 \, Pittsburgh\, PA 15206 (just north of Home Depot and across from Obama A
 cademy). \n\nWhen arriving at the seminary\, there will be signs to guide
  you to our exact location.\nParking is available on N. Highland Ave or on
  the seminary campus.\nIf parking on N. Highland Ave or taking the bus\, w
 alk thru the south gateway (closer to Home Depot) and go to the covered wa
 lkway.\n\nOn Wednesdays make a left to Long Hall.\nIf parking on the cam
 pus\, construction has closed several driveway entrances to the campus. Go
 ing north on Highland Avenue\, use the drive/entrance just past the Chapel
 \, then drive down past the chapel (on your right) and drive around the ba
 ck to the right to park near the end\, before the small hill up to the McN
 augher Hall building. All parking up the slope next to McNaugher Hall is h
 andicap parking.   Go to the covered walkway for entrance to either McNa
 ugher Hall or Long Hall. \nSWC Wellness Dinner for people living with HIV
 /AIDS and their loved ones. Doors open at 4:30 pm for social time and  be
 verages. Dinner served at 5:15pm. Program from 6 - 7pm.\n\nWe STRONGLY E
 NCOURAGE Covid Vaccination and Boosters for anyone eligible for them. Vacc
 ination is not required at this time to attend SWC events. \n\nIf you hav
 e a confirmed positive test after attending SWC\, please contact us immedi
 ately: 412 683 4477 or office@swconline.org.\n\nWe will monitor COVID-19 
 and will update you if additional changes to our programs become necessary
 .\n\nIF YOU DO NOT FEEL WELL\, PLEASE DO NOT COME TO AN IN-PERSON DINNER O
 R PROGRAM.\n\nWednesday night at Pittsburgh Theological Seminary (PTS)\, l
 ocated at 616 N. Highland Avenue\, Pittsburgh\, PA 15206 (just north of Ho
 me Depot and across from Obama Academy).\n4:30pm - Doors open at PTS for b
 everages &amp\; social time\n5:15 pm - Dinner Served\n6 -7pm - Floral Desi
 gn | Enjoy a fun and supportive time with friends as Tara shows you how to
  unleash your artistic creativity through floral design. Studies have show
 n that simply arranging flowers can reduce stress by lowering heart rates 
 and blood pressure. Each certified member completing this program will rec
 eive a $5 gift card. Adults only.
CATEGORIES:Program,Wellness Dinner
END:VEVENT
BEGIN:VTIMEZONE
TZID:America/New_York
X-LIC-LOCATION:America/New_York
BEGIN:DAYLIGHT
DTSTART:20230312T030000
TZOFFSETFROM:-0500
TZOFFSETTO:-0400
TZNAME:EDT
END:DAYLIGHT
END:VTIMEZONE
END:VCALENDAR