BEGIN:VCALENDAR
VERSION:2.0
PRODID:-//wp-events-plugin.com//7.2.3.1//EN
TZID:America/New_York
X-WR-TIMEZONE:America/New_York
BEGIN:VEVENT
UID:4399@swconline.org
DTSTART;TZID=America/New_York:20260121T163000
DTEND;TZID=America/New_York:20260121T190000
DTSTAMP:20260116T202645Z
URL:https://swconline.org/calendar-of-events/swc-wellness-dinner-essential
 -oils-2/
SUMMARY:SWC Wellness Dinner & Art For Life
DESCRIPTION:&nbsp\;\n\nSWC Wellness Dinner for people living with HIV/AIDS 
 and their loved ones. Doors open at 4:30 pm for social time and  beverage
 s. Dinner served at 5:15pm. Program from 6 – 7pm.\n\nShepherd Wellness C
 ommunity has updated its COVID 19 policies\, procedures\, mitigation effo
 rts and safety protocols. We no longer require proof of COVID vaccinatio
 n to attend SWC events.\nFor information about Shepherd Wellness Communit
 y’s COVID-19 policies\, procedures\, mitigation efforts and safety proto
 cols click here.\n\n\nWednesday night at our center in Bloomfield\, locat
 ed at 4800 Sciota St. (S. Mathilda &amp\; Sciota)\n\n\n4:30pm - Doors open
  on Sciota St. for beverages &amp\; social time\n5:15 pm - Dinner Served i
 n our Activities Room\n\n6 -7pm - Art For Life | Transform your world with
  Brant’s inspiring art experiences\, promoting wellness and emotional ba
 lance. Children and guest of members are welcome.\n\n 	There is no meal ch
 arge for SWC-certified members\, their children under 18\, or for the firs
 t loved one accompanying a certified member.\n 	Additional loved ones acco
 mpany a certified member pay a meal charge of only $10. Noncertified HIV+ 
 people pay a meal charge of only $10 (after their first visit).\n 	There i
 s no charge for programs at our center for our HIV+ members and their love
 d ones.\n\nLoved ones may attend most of our programs\, however\, there is
  no change to our policy that HIV support groups are open only to HIV+ peo
 ple. Some programs have adult-only content\, and guests attending our outi
 ngs are welcome on a self-pay basis.
CATEGORIES:Program,Wellness Dinner
LOCATION:Shepherd Wellness Community\, 4800 Sciota Street\, Pittsburgh\, PA
 \, 15224\, United States
X-APPLE-STRUCTURED-LOCATION;VALUE=URI;X-ADDRESS=4800 Sciota Street\, Pittsb
 urgh\, PA\, 15224\, United States;X-APPLE-RADIUS=100;X-TITLE=Shepherd Well
 ness Community:geo:0,0
END:VEVENT
BEGIN:VTIMEZONE
TZID:America/New_York
X-LIC-LOCATION:America/New_York
BEGIN:STANDARD
DTSTART:20251102T010000
TZOFFSETFROM:-0400
TZOFFSETTO:-0500
TZNAME:EST
END:STANDARD
END:VTIMEZONE
END:VCALENDAR