BEGIN:VCALENDAR
VERSION:2.0
PRODID:-//wp-events-plugin.com//7.2.3.1//EN
TZID:America/New_York
X-WR-TIMEZONE:America/New_York
BEGIN:VEVENT
UID:1642@swconline.org
DTSTART;TZID=America/New_York:20240131T163000
DTEND;TZID=America/New_York:20240131T190000
DTSTAMP:20240130T185430Z
URL:https://swconline.org/calendar-of-events/swc-wellness-dinner-easy-fitn
 ess-2/
SUMMARY:SWC Wellness Dinner & Easy Fitness
DESCRIPTION:\n\nSWC Wellness Dinner for people living with HIV/AIDS and the
 ir loved ones. Doors open at 4:30 pm for social time and  beverages. Dinn
 er served at 5:15pm. Program from 6 – 7pm.\n\nShepherd Wellness Communit
 y has updated its COVID 19 policies\, procedures\, mitigation efforts and
  safety protocols. We no longer require proof of COVID vaccination to a
 ttend SWC events.\n\nIn response to the COVID-19 pandemic\, Shepherd Welln
 ess Community (SWC) has implemented policies\, procedures\, mitigation eff
 orts and safety protocols informed by County\, State\, and Federal public 
 health guidelines in addition to local health care professionals who advis
 e SWC on our response to changes in the COVID-19 pandemic.\n\nIf you have 
 a confirmed positive test after attending SWC\, please contact us immedia
 tely: 412 683 4477 or office@swconline.org. \n\nAt this time SWC is re
 quiring that all members\, staff\, visitors\, and volunteers be masked wh
 ile in our building\, except when seated and actively eating and drinking.
   Using a N95 quality mask is preferred. \n\nRegardless of vaccination s
 tatus\, you should isolate from others when you have tested positive for 
 COVID-19 and before returning to SWC functions.\n\nIf you test positive fo
 r COVID-19\, please stay home for at least 5 days and isolate from others
  in your home. You are likely infectious during the first 5 days.\n\nOnce 
 symptoms begin improving you may return to SWC functions after day 5 if y
 ou are fever-free for 24 hours (without the use of fever-reducing medicati
 on)\, AND you have a negative test for COVID-19.  You must continue to ma
 sk through day 10.\n\nPlease call SWC (412 683 4477) with any questions\, 
 or to confirm when you may return to SWC functions after testing positive.
 \n\nIf your symptoms are not improving or you had moderate illness (you e
 xperienced shortness of breath or had difficulty breathing) you need to co
 ntinue to isolate through day 10. If you experienced severe illness or ha
 ve a weakened immune system we request you consult your doctor before retu
 rning to SWC functions.\n\nIf you are unsure if your symptoms are moderate
  or severe or if you have a weakened immune system\, talk to a healthcare 
 provider for further guidance and before returning to SWC functions.\nIF Y
 OU DO NOT FEEL WELL\, PLEASE DO NOT COME TO AN IN-PERSON DINNER OR PROGRAM
 .\nWednesday night at our center in Bloomfield\, located at 4800 Sciota St
 . (S. Mathilda &amp\; Sciota)\n4:30pm - Doors open on S. Mathilda St. for 
 beverages &amp\; social time\n5:15 pm - Dinner Served\n\n6 -7pm - Easy Fit
 ness | Personal Trainer Hazell leads an easy fitness class to improve your
  flexibility and mobility. Each certified member completing this program r
 eceives a $5 gift card. Adults members and guest only.
CATEGORIES:Program,Wellness Dinner
LOCATION:Shepherd Wellness Community\, 4800 Sciota Street\, Pittsburgh\, PA
 \, 15224\, United States
X-APPLE-STRUCTURED-LOCATION;VALUE=URI;X-ADDRESS=4800 Sciota Street\, Pittsb
 urgh\, PA\, 15224\, United States;X-APPLE-RADIUS=100;X-TITLE=Shepherd Well
 ness Community:geo:0,0
END:VEVENT
BEGIN:VTIMEZONE
TZID:America/New_York
X-LIC-LOCATION:America/New_York
BEGIN:STANDARD
DTSTART:20231105T010000
TZOFFSETFROM:-0400
TZOFFSETTO:-0500
TZNAME:EST
END:STANDARD
END:VTIMEZONE
END:VCALENDAR