BEGIN:VCALENDAR
VERSION:2.0
PRODID:-//wp-events-plugin.com//7.2.3.1//EN
TZID:America/New_York
X-WR-TIMEZONE:America/New_York
BEGIN:VEVENT
UID:1349@swconline.org
DTSTART;TZID=America/New_York:20230612T163000
DTEND;TZID=America/New_York:20230612T190000
DTSTAMP:20230609T134614Z
URL:https://swconline.org/calendar-of-events/swc-wellness-dinner-dinner-ta
 lk/
SUMMARY:Dinner Cancelled
DESCRIPTION:While our building undergoes repairs to our sewer system\, dinn
 ers and wellness programs will continue as much as possible at another loc
 ation: when and where is yet to be determined. Please watch for email upd
 ates as we formalize plans.
CATEGORIES:Wellness Dinner
END:VEVENT
BEGIN:VTIMEZONE
TZID:America/New_York
X-LIC-LOCATION:America/New_York
BEGIN:DAYLIGHT
DTSTART:20230312T030000
TZOFFSETFROM:-0500
TZOFFSETTO:-0400
TZNAME:EDT
END:DAYLIGHT
END:VTIMEZONE
END:VCALENDAR