BEGIN:VCALENDAR
VERSION:2.0
PRODID:-//wp-events-plugin.com//7.2.3.1//EN
TZID:America/New_York
X-WR-TIMEZONE:America/New_York
BEGIN:VEVENT
UID:4389@swconline.org
DTSTART;TZID=America/New_York:20260126T163000
DTEND;TZID=America/New_York:20260126T193000
DTSTAMP:20251216T160201Z
URL:https://swconline.org/calendar-of-events/swc-wellness-dinner-dinner-ch
 at-63/
SUMMARY:SWC Wellness Dinner & Dinner Chat
DESCRIPTION:SWC Wellness Dinner for people living with HIV/AIDS and their l
 oved ones. Doors open at 4:30 pm for social time and  beverages. Dinner s
 erved at 5:15pm. Dinner chat from 5:30pm - 6pm.\n\nFor information about S
 hepherd Wellness Community’s COVID-19 policies\, procedures\, mitigation
  efforts and safety protocols click here.\n\n\n\n\nMonday night at our ce
 nter in Bloomfield\, located at 4800 Sciota St. (S. Mathilda &amp\; Sciota
 )\n\n\n\n4:30pm - Doors open on Sciota St. for beverages &amp\; social tim
 e\n5:15 pm - Dinner served in our Dining Room \n\n5:30pm - Dinner &amp\; 
 Dinner Chat | Join the conversation with Terry from UPMC about HIV and chr
 onic pain.\n\n 	There is no meal charge for SWC-certified members\, their 
 children under 18\, or for the first loved one accompanying a certified me
 mber.\n 	Additional loved ones accompany a certified member pay a meal cha
 rge of only $10. Noncertified HIV+ people pay a meal charge of only $10 (a
 fter their first visit).\n 	There is no charge for programs at our center 
 for our HIV+ members and their loved ones.\n\nLoved ones may attend most o
 f our programs\, however\, there is no change to our policy that HIV suppo
 rt groups are open only to HIV+ people. Some programs have adult-only cont
 ent\, and guests attending our outings are welcome on a self-pay basis.
CATEGORIES:Program,Wellness Dinner
LOCATION:Shepherd Wellness Community\, 4800 Sciota Street\, Pittsburgh\, PA
 \, 15224\, United States
X-APPLE-STRUCTURED-LOCATION;VALUE=URI;X-ADDRESS=4800 Sciota Street\, Pittsb
 urgh\, PA\, 15224\, United States;X-APPLE-RADIUS=100;X-TITLE=Shepherd Well
 ness Community:geo:0,0
END:VEVENT
BEGIN:VTIMEZONE
TZID:America/New_York
X-LIC-LOCATION:America/New_York
BEGIN:STANDARD
DTSTART:20251102T010000
TZOFFSETFROM:-0400
TZOFFSETTO:-0500
TZNAME:EST
END:STANDARD
END:VTIMEZONE
END:VCALENDAR