BEGIN:VCALENDAR
VERSION:2.0
PRODID:-//wp-events-plugin.com//7.2.3.1//EN
TZID:America/New_York
X-WR-TIMEZONE:America/New_York
BEGIN:VEVENT
UID:4125@swconline.org
DTSTART;TZID=America/New_York:20240930T163000
DTEND;TZID=America/New_York:20240930T190000
DTSTAMP:20240822T190857Z
URL:https://swconline.org/calendar-of-events/swc-wellness-dinner-dinner-ch
 at-57/
SUMMARY:SWC Wellness Dinner & Dinner Chat
DESCRIPTION:\n\nSWC Wellness Dinner for people living with HIV/AIDS and the
 ir loved ones. Doors open at 4:30 pm for social time and  beverages. Dinn
 er served at 5:15pm. Dinner chat from 5:30pm - 6pm.\n\nFor information abo
 ut Shepherd Wellness Community’s COVID-19 policies\, procedures\, mitiga
 tion efforts and safety protocols click here.\n\n\n\n\nMonday night at ou
 r center in Bloomfield\, located at 4800 Sciota St. (S. Mathilda &amp\; Sc
 iota)\n\n\n\n4:30pm - Doors open on S. Mathilda St. for beverages &amp\; s
 ocial time\n5:15 pm - Dinner Served\n\n5:30pm - Dinner Chat | Experience 
 an informal conversation over dinner with Shanon from the We Folk organiza
 tion and discover the organization’s mission to restore and maintain pow
 er and interdependence in our communities by way of mutual aid.\n\n 	There
  is no meal charge for SWC-certified members\, their children under 18\, o
 r for the first loved one accompanying a certified member.\n 	Additional l
 oved ones accompany a certified member pay a meal charge of only $10. Nonc
 ertified HIV+ people pay a meal charge of only $10 (after their first visi
 t).\n 	There is no charge for programs at our center for our HIV+ members 
 and their loved ones.\n\nLoved ones may attend most of our programs\, howe
 ver\, there is no change to our policy that HIV support groups are open on
 ly to HIV+ people. Some programs have adult-only content\, and guests atte
 nding our outings are welcome on a self-pay basis.
CATEGORIES:Program,Wellness Dinner
LOCATION:Shepherd Wellness Community\, 4800 Sciota Street\, Pittsburgh\, PA
 \, 15224\, United States
X-APPLE-STRUCTURED-LOCATION;VALUE=URI;X-ADDRESS=4800 Sciota Street\, Pittsb
 urgh\, PA\, 15224\, United States;X-APPLE-RADIUS=100;X-TITLE=Shepherd Well
 ness Community:geo:0,0
END:VEVENT
BEGIN:VTIMEZONE
TZID:America/New_York
X-LIC-LOCATION:America/New_York
BEGIN:DAYLIGHT
DTSTART:20240310T030000
TZOFFSETFROM:-0500
TZOFFSETTO:-0400
TZNAME:EDT
END:DAYLIGHT
END:VTIMEZONE
END:VCALENDAR