BEGIN:VCALENDAR
VERSION:2.0
PRODID:-//wp-events-plugin.com//7.2.3.1//EN
TZID:America/New_York
X-WR-TIMEZONE:America/New_York
BEGIN:VEVENT
UID:4092@swconline.org
DTSTART;TZID=America/New_York:20240624T163000
DTEND;TZID=America/New_York:20240624T190000
DTSTAMP:20240528T174836Z
URL:https://swconline.org/calendar-of-events/swc-wellness-dinner-dinner-ch
 at-47/
SUMMARY:SWC Wellness Dinner & Dinner Chat
DESCRIPTION:\n\nSWC Wellness Dinner for people living with HIV/AIDS and the
 ir loved ones. Doors open at 4:30 pm for social time and  beverages. Dinn
 er served at 5:15pm. Dinner chat from 5:30pm - 6pm.\n\nFor information abo
 ut Shepherd Wellness Community’s COVID-19 policies\, procedures\, mitiga
 tion efforts and safety protocols click here.\n\n\n\n\nMonday night at ou
 r center in Bloomfield\, located at 4800 Sciota St. (S. Mathilda &amp\; Sc
 iota)\n\n\n\n4:30pm - Doors open on S. Mathilda St. for beverages &amp\; s
 ocial time\n5:15 pm - Dinner Served\n\n5:30pm - Dinner Chat | A presentat
 ion by staff at the Pitt School of Public Health on their Partner Notifica
 tion project to improve contacting those exposed to HIV and STIs and their
  partners and how you can sign up for an anonymous interview to share your
  insight and ideas. Participants will be compensated for their time. After
  the chat we will have a raffle for a special prize!\n\n 	There is no meal
  charge for SWC-certified members\, their children under 18\, or for the f
 irst loved one accompanying a certified member.\n 	Additional loved ones a
 ccompany a certified member pay a meal charge of only $10. Noncertified HI
 V+ people pay a meal charge of only $10 (after their first visit).\n 	Ther
 e is no charge for programs at our center for our HIV+ members and their l
 oved ones.\n\nLoved ones may attend most of our programs\, however\, there
  is no change to our policy that HIV support groups are open only to HIV+ 
 people. Some programs have adult-only content\, and guests attending our o
 utings are welcome on a self-pay basis.
CATEGORIES:Program,Wellness Dinner
LOCATION:Shepherd Wellness Community\, 4800 Sciota Street\, Pittsburgh\, PA
 \, 15224\, United States
X-APPLE-STRUCTURED-LOCATION;VALUE=URI;X-ADDRESS=4800 Sciota Street\, Pittsb
 urgh\, PA\, 15224\, United States;X-APPLE-RADIUS=100;X-TITLE=Shepherd Well
 ness Community:geo:0,0
END:VEVENT
BEGIN:VTIMEZONE
TZID:America/New_York
X-LIC-LOCATION:America/New_York
BEGIN:DAYLIGHT
DTSTART:20240310T030000
TZOFFSETFROM:-0500
TZOFFSETTO:-0400
TZNAME:EDT
END:DAYLIGHT
END:VTIMEZONE
END:VCALENDAR