BEGIN:VCALENDAR
VERSION:2.0
PRODID:-//wp-events-plugin.com//7.2.3.1//EN
TZID:America/New_York
X-WR-TIMEZONE:America/New_York
BEGIN:VEVENT
UID:1673@swconline.org
DTSTART;TZID=America/New_York:20240318T163000
DTEND;TZID=America/New_York:20240318T190000
DTSTAMP:20240220T193034Z
URL:https://swconline.org/calendar-of-events/swc-wellness-dinner-dinner-ch
 at-35/
SUMMARY:SWC Wellness Dinner & Dinner Chat
DESCRIPTION:\n\nSWC Wellness Dinner for people living with HIV/AIDS and the
 ir loved ones. Doors open at 4:30 pm for social time and  beverages. Dinn
 er served at 5:15pm. Dinner chat from 5:30pm - 6pm.\n\nShepherd Wellness C
 ommunity has updated its COVID 19 policies\, procedures\, mitigation effo
 rts and safety protocols. We no longer require proof of COVID vaccinatio
 n to attend SWC events.\n\nIf you have a confirmed positive test after a
 ttending SWC\, please contact us immediately: 412 683 4477 or office@swc
 online.org. \n\nAT THIS TIME MASKS ARE OPTIONAL\, NOT REQUIRED\, WHEN IN
  THE SWC BUILDING. \n\nRegardless of vaccination status\, you should iso
 late from others when you have tested positive for COVID-19 and before ret
 urning to SWC functions.\n\nIf you test positive for COVID-19\, please st
 ay home for at least 5 days and isolate from others in your home. You are 
 likely infectious during the first 5 days.\n\nOnce symptoms begin improvin
 g you may return to SWC functions after day 5 if you are fever-free for 2
 4 hours (without the use of fever-reducing medication)\, AND you have a ne
 gative test for COVID-19.  You must continue to mask through day 10.\n\nP
 lease call SWC (412 683 4477) with any questions\, or to confirm when you 
 may return to SWC functions after testing positive.\n\nIf your symptoms ar
 e not improving or you had moderate illness (you experienced shortness of
  breath or had difficulty breathing) you need to continue to isolate thro
 ugh day 10. If you experienced severe illness or have a weakened immune sy
 stem we request you consult your doctor before returning to SWC functions.
 \n\nIf you are unsure if your symptoms are moderate or severe or if you ha
 ve a weakened immune system\, talk to a healthcare provider for further gu
 idance and before returning to SWC functions.\nIF YOU DO NOT FEEL WELL\, P
 LEASE DO NOT COME TO AN IN-PERSON DINNER OR PROGRAM.\nMonday night at our 
 center in Bloomfield\, located at 4800 Sciota St. (S. Mathilda &amp\; Scio
 ta)\n4:30pm - Doors open on S. Mathilda St. for beverages &amp\; social ti
 me\n5:15 pm - Dinner Served\n\n5:30pm - Dinner Chat | An informal present
 ation and chat during dinner with Holly from the Carnegie Library about fr
 ee services and educational classes offered at the different locations of 
 the Carnegie libraries.
CATEGORIES:Program,Wellness Dinner
LOCATION:Shepherd Wellness Community\, 4800 Sciota Street\, Pittsburgh\, PA
 \, 15224\, United States
X-APPLE-STRUCTURED-LOCATION;VALUE=URI;X-ADDRESS=4800 Sciota Street\, Pittsb
 urgh\, PA\, 15224\, United States;X-APPLE-RADIUS=100;X-TITLE=Shepherd Well
 ness Community:geo:0,0
END:VEVENT
BEGIN:VTIMEZONE
TZID:America/New_York
X-LIC-LOCATION:America/New_York
BEGIN:DAYLIGHT
DTSTART:20240310T030000
TZOFFSETFROM:-0500
TZOFFSETTO:-0400
TZNAME:EDT
END:DAYLIGHT
END:VTIMEZONE
END:VCALENDAR