BEGIN:VCALENDAR
VERSION:2.0
PRODID:-//wp-events-plugin.com//7.2.3.1//EN
TZID:America/New_York
X-WR-TIMEZONE:America/New_York
BEGIN:VEVENT
UID:1323@swconline.org
DTSTART;TZID=America/New_York:20230403T163000
DTEND;TZID=America/New_York:20230403T190000
DTSTAMP:20230323T193807Z
URL:https://swconline.org/calendar-of-events/swc-wellness-dinner-dinner-ch
 at-3/
SUMMARY:SWC Wellness Dinner & Dinner Chat
DESCRIPTION:SWC Wellness Dinner for people living with HIV/AIDS and their l
 oved ones. Doors open at 4:30 pm for social time and  beverages. Dinner s
 erved at 5:15pm. Dinner Chat from 5:30 - 6pm.\n\nShepherd Wellness Communi
 ty has updated its Covid 19 policies\, procedures\, mitigation efforts an
 d safety protocols. These updates have been made based on current County\,
  State\, and Federal public health guidelines. Effective immediately we 
 will no longer require proof of vaccination to attend SWC events.  We h
 ave simplified and revised our Covid 19 waiver which will continue to be 
 required at in-person dinners and programs. Please click on the image abo
 ve if you would like to see or print a copy of the revised waiver. Maskin
 g will remain optional when the CDC lists community risk as low in Alleg
 heny County. If community risk levels move to medium or higher we will onc
 e again require masking except when eating or drinking.\n\nWe STRONGLY E
 NCOURAGE Covid Vaccination and Boosters for anyone eligible for them.\n\
 nWhen the community risk rate is listed as high as determined by the CDC 
 we will require a NEGATIVE COVID rapid test\, taken that day\, to attend 
 each in-person dinner/program. Please refer to our weekly newsletter/email
  or contact the SWC Office directly if you need to verify if testing is be
 ing required. To receive our emails please sign up on the front page of th
 is website.\n\nWhen testing is required you must either present your test 
 result (or a photo)\, taken at home that day\, when you check in. SWC will
  have tests available for you to take on arrival. Please plan accordingly 
 – IF YOU REQUIRE TESTING AT SWC\, you must arrive no later than 5:25 pm
  on Monday or Wednesday evenings\, and no later than 6:45pm on Friday even
 ings. We have COVID-19 rapid tests for you to take home\, please request
  them from a staff member if needed.\n\nIf you have a confirmed positive t
 est after attending SWC\, please contact us immediately: 412 683 4477 or 
 office@swconline.org.\n\nWe will monitor COVID-19 and will update you if a
 dditional changes to our programs become necessary.\n\nIF YOU DO NOT FEEL 
 WELL\, PLEASE DO NOT COME TO AN IN-PERSON DINNER OR PROGRAM.\n\nMonday nig
 ht at our center in Bloomfield\, located at 4800 Sciota St. (S. Mathilda &
 amp\; Sciota)\nJoin us for an uplifting social time\, HIV support group fo
 llowed by a nutritious dinner.\n4:30pm - Doors open on S. Mathilda St. for
  beverages &amp\; social time\n5:15 pm - Dinner Served\n5:30pm - Dinner ch
 at begins | An informal presentation and chat during dinner with Crystal f
 rom Allies for Health + Wellbeing about the linkage to care program.
CATEGORIES:Wellness Dinner
END:VEVENT
BEGIN:VTIMEZONE
TZID:America/New_York
X-LIC-LOCATION:America/New_York
BEGIN:DAYLIGHT
DTSTART:20230312T030000
TZOFFSETFROM:-0500
TZOFFSETTO:-0400
TZNAME:EDT
END:DAYLIGHT
END:VTIMEZONE
END:VCALENDAR