BEGIN:VCALENDAR
VERSION:2.0
PRODID:-//wp-events-plugin.com//7.2.3.1//EN
TZID:America/New_York
X-WR-TIMEZONE:America/New_York
BEGIN:VEVENT
UID:1391@swconline.org
DTSTART;TZID=America/New_York:20230918T163000
DTEND;TZID=America/New_York:20230918T190000
DTSTAMP:20230822T153144Z
URL:https://swconline.org/calendar-of-events/swc-wellness-dinner-dinner-ch
 at-19/
SUMMARY:SWC Wellness Dinner & Dinner Chat
DESCRIPTION:SWC Wellness Dinner for people living with HIV/AIDS and their l
 oved ones. Doors open at 4:30 pm for social time and  beverages. Dinner s
 erved at 5:15pm. Dinner chat from 5:30pm - 6pm.\n\nShepherd Wellness Commu
 nity has updated its COVID 19 policies\, procedures\, mitigation efforts 
 and safety protocols. We no longer require proof of COVID vaccination t
 o attend SWC events. Masking is optional.\n\nWe STRONGLY ENCOURAGE COV
 ID Vaccination and Boosters for anyone eligible for them.\n\nIf you have 
 a confirmed positive test after attending SWC\, please contact us immediat
 ely: 412 683 4477 or office@swconline.org.\n\nIF YOU DO NOT FEEL WELL\, P
 LEASE DO NOT COME TO AN IN-PERSON DINNER OR PROGRAM.\n\nMonday night at ou
 r center in Bloomfield\, located at 4800 Sciota St. (S. Mathilda &amp\; Sc
 iota)\n4:30pm - Doors open on S. Mathilda St. for beverages &amp\; social 
 time\n5:15 pm - Dinner Served\n\n5:30pm - Dinner Chat | An informal presen
 tation and chat during dinner with staff from JHF (Jewish Healthcare Found
 ation) about the 2023 Ryan White Needs Assessment and consumer survey. The
  purpose of this survey is to evaluate HIV services in Southwestern Pennsy
 lvania.
CATEGORIES:Wellness Dinner
END:VEVENT
BEGIN:VTIMEZONE
TZID:America/New_York
X-LIC-LOCATION:America/New_York
BEGIN:DAYLIGHT
DTSTART:20230312T030000
TZOFFSETFROM:-0500
TZOFFSETTO:-0400
TZNAME:EDT
END:DAYLIGHT
END:VTIMEZONE
END:VCALENDAR