BEGIN:VCALENDAR
VERSION:2.0
PRODID:-//wp-events-plugin.com//7.2.3.1//EN
TZID:America/New_York
X-WR-TIMEZONE:America/New_York
BEGIN:VEVENT
UID:1350@swconline.org
DTSTART;TZID=America/New_York:20230626T163000
DTEND;TZID=America/New_York:20230626T190000
DTSTAMP:20230621T155735Z
URL:https://swconline.org/calendar-of-events/swc-wellness-dinner-dinner-ch
 at-11/
SUMMARY:SWC Wellness Dinner & Dinner Chat
DESCRIPTION:SWC will be relocating temporarily while our building undergoes
  repairs to our sewage system.  Wellness dinners and programs will be hel
 d at the Pittsburgh Theological Seminary located at 616 N. Highland Avenue
 \, Pittsburgh\, PA 15206 (just north of Home Depot and across from Obama A
 cademy). \n\nWhen arriving at the seminary\, there will be signs to guide
  you to our exact location.\nParking is available on N. Highland Ave or on
  the seminary campus.\nIf parking on N. Highland Ave or taking the bus\, w
 alk thru the south gateway (closer to Home Depot) and go to the covered wa
 lkway.\n\nMondays make a right to McNaugher Hall.\n\nIf parking on the cam
 pus\, construction has closed several driveway entrances to the campus. Go
 ing north on Highland Avenue\, use the drive/entrance just past the Chapel
 \, then drive down past the chapel (on your right) and drive around the ba
 ck to the right to park near the end\, before the small hill up to the McN
 augher Hall building. All parking up the slope next to McNaugher Hall is h
 andicap parking.   Go to the covered walkway for entrance to either McNa
 ugher Hall or Long Hall. \nSWC Wellness Dinner for people living with HIV
 /AIDS and their loved ones. Doors open at 4:30 pm for social time and  be
 verages. Dinner served at 5:15pm. Dinner chat from 5:30pm - 6pm.\n\nWe ST
 RONGLY ENCOURAGE Covid Vaccination and Boosters for anyone eligible for t
 hem. Vaccination is not required at this time to attend SWC events. \n\nI
 f you have a confirmed positive test after attending SWC\, please contact 
 us immediately: 412 683 4477 or office@swconline.org.\n\nWe will monitor 
 COVID-19 and will update you if additional changes to our programs become 
 necessary.\n\nIF YOU DO NOT FEEL WELL\, PLEASE DO NOT COME TO AN IN-PERSON
  DINNER OR PROGRAM.\n\nMonday night at Pittsburgh Theological Seminary (PT
 S) \, located at 616 N. Highland Avenue\, Pittsburgh\, PA 15206 (just nort
 h of Home Depot and across from Obama Academy).\n4:30pm - Doors open at PT
 S  for beverages &amp\; social time\n4:30pm - Appetizers served\n5:15 pm 
 - Dinner served\n5:30pm - Dinner Chat | An informal presentation and chat 
 during dinner by Dr. Marvin about ways to better understand medical result
 s and ways to improve relationships with healthcare providers.
CATEGORIES:Wellness Dinner
END:VEVENT
BEGIN:VTIMEZONE
TZID:America/New_York
X-LIC-LOCATION:America/New_York
BEGIN:DAYLIGHT
DTSTART:20230312T030000
TZOFFSETFROM:-0500
TZOFFSETTO:-0400
TZNAME:EDT
END:DAYLIGHT
END:VTIMEZONE
END:VCALENDAR