BEGIN:VCALENDAR
VERSION:2.0
PRODID:-//wp-events-plugin.com//7.2.3.1//EN
TZID:America/New_York
X-WR-TIMEZONE:America/New_York
BEGIN:VEVENT
UID:1370@swconline.org
DTSTART;TZID=America/New_York:20230816T163000
DTEND;TZID=America/New_York:20230816T190000
DTSTAMP:20230725T162507Z
URL:https://swconline.org/calendar-of-events/swc-wellness-dinner-creative-
 crafts/
SUMMARY:SWC Wellness Dinner & Creative Crafts
DESCRIPTION:SWC Wellness Dinner for people living with HIV/AIDS and their l
 oved ones. Doors open at 4:30 pm for social time and  beverages. Dinner s
 erved at 5:15pm. Program from 6 – 7pm.\n\nShepherd Wellness Community ha
 s updated its COVID 19 policies\, procedures\, mitigation efforts and saf
 ety protocols. We no longer require proof of COVID vaccination to atten
 d SWC events. Masking is optional.\n\nWe STRONGLY ENCOURAGE COVID Vacc
 ination and Boosters for anyone eligible for them.\n\nIf you have a confi
 rmed positive test after attending SWC\, please contact us immediately: 41
 2 683 4477 or office@swconline.org.\n\nIF YOU DO NOT FEEL WELL\, PLEASE D
 O NOT COME TO AN IN-PERSON DINNER OR PROGRAM.\n\nWednesday night at our ce
 nter in Bloomfield\, located at 4800 Sciota St. (S. Mathilda &amp\; Sciota
 )\n4:30pm - Doors open on S. Mathilda St. for beverages &amp\; social time
 \n5:15 pm - Dinner Served\n\n6 -7pm - Creative Crafts | Join Cindy from AH
 N to make one of a kind table center pieces. Creative activities can decre
 ase depressive symptoms\, reduce stress\, and in some cases improve immune
  system functioning and cognitive strength. Each certified member completi
 ng this program receives a $5 gift card. Children and guest of certified m
 embers are welcome.
CATEGORIES:Program,Wellness Dinner
END:VEVENT
BEGIN:VTIMEZONE
TZID:America/New_York
X-LIC-LOCATION:America/New_York
BEGIN:DAYLIGHT
DTSTART:20230312T030000
TZOFFSETFROM:-0500
TZOFFSETTO:-0400
TZNAME:EDT
END:DAYLIGHT
END:VTIMEZONE
END:VCALENDAR