BEGIN:VCALENDAR
VERSION:2.0
PRODID:-//wp-events-plugin.com//7.2.3.1//EN
TZID:America/New_York
X-WR-TIMEZONE:America/New_York
BEGIN:VEVENT
UID:1352@swconline.org
DTSTART;TZID=America/New_York:20230614T173000
DTEND;TZID=America/New_York:20230614T200000
DTSTAMP:20230609T134941Z
URL:https://swconline.org/calendar-of-events/swc-wellness-dinner-creative-
 ceramics/
SUMMARY:Meet us at the Hofbräuhaus Restaurant for dinner at 5:30pm
DESCRIPTION:Hofbräuhaus Restaurant 2705 S Water St. Pittsburgh\, PA 15203 
 (Southside Works).\n\nPlease do not arrive at the restaurant before 5:15 p
 m.\n\nSWC will  pay for dinner and non-alcoholic beverages for our certif
 ied members\, their registered children\, and one guest.\nCertified Member
 s MUST RSVP by Tuesday June 13th no later than 5:00 pm.\nPlease call or 
 email the SWC Office to RSVP at office@swconline.org or (412) 683-4477.\
 n\n&nbsp\;
CATEGORIES:Program,Wellness Dinner
END:VEVENT
BEGIN:VTIMEZONE
TZID:America/New_York
X-LIC-LOCATION:America/New_York
BEGIN:DAYLIGHT
DTSTART:20230312T030000
TZOFFSETFROM:-0500
TZOFFSETTO:-0400
TZNAME:EDT
END:DAYLIGHT
END:VTIMEZONE
END:VCALENDAR