BEGIN:VCALENDAR
VERSION:2.0
PRODID:-//wp-events-plugin.com//7.2.3.1//EN
TZID:America/New_York
X-WR-TIMEZONE:America/New_York
BEGIN:VEVENT
UID:1401@swconline.org
DTSTART;TZID=America/New_York:20231025T163000
DTEND;TZID=America/New_York:20231025T190000
DTSTAMP:20230928T152254Z
URL:https://swconline.org/calendar-of-events/swc-wellness-dinner-art-thera
 py-4/
SUMMARY:SWC Wellness Dinner & Art Therapy
DESCRIPTION:\n\nSWC Wellness Dinner for people living with HIV/AIDS and the
 ir loved ones. Doors open at 4:30 pm for social time and  beverages. Dinn
 er served at 5:15pm. Program from 6 – 7pm.\n\nShepherd Wellness Communit
 y has updated its COVID 19 policies\, procedures\, mitigation efforts and
  safety protocols. We no longer require proof of COVID vaccination to a
 ttend SWC events. Masking is optional.\n\nWe STRONGLY ENCOURAGE COVID 
 Vaccination and Boosters for anyone eligible for them.\n\nIf you have a c
 onfirmed positive test after attending SWC\, please contact us immediately
 : 412 683 4477 or office@swconline.org.\n\nIF YOU DO NOT FEEL WELL\, PLEA
 SE DO NOT COME TO AN IN-PERSON DINNER OR PROGRAM.\n\nWednesday night at ou
 r center in Bloomfield\, located at 4800 Sciota St. (S. Mathilda &amp\; Sc
 iota)\n4:30pm - Doors open on S. Mathilda St. for beverages &amp\; social 
 time\n5:15 pm - Dinner Served\n\n6 -7pm - Art Therapy | Art Therapist Bran
 t uses art therapy techniques to help you reflect\, share\, and promote em
 otional well-being. Create a wall display made of clay expressing what you
  are grateful for. Each certified member completing this program receives 
 a $5 gift card. Adult members only.
CATEGORIES:Program,Wellness Dinner
END:VEVENT
BEGIN:VTIMEZONE
TZID:America/New_York
X-LIC-LOCATION:America/New_York
BEGIN:DAYLIGHT
DTSTART:20230312T030000
TZOFFSETFROM:-0500
TZOFFSETTO:-0400
TZNAME:EDT
END:DAYLIGHT
END:VTIMEZONE
END:VCALENDAR