BEGIN:VCALENDAR
VERSION:2.0
PRODID:-//wp-events-plugin.com//7.2.3.1//EN
TZID:America/New_York
X-WR-TIMEZONE:America/New_York
BEGIN:VEVENT
UID:1356@swconline.org
DTSTART;TZID=America/New_York:20230705T163000
DTEND;TZID=America/New_York:20230705T190000
DTSTAMP:20230629T142832Z
URL:https://swconline.org/calendar-of-events/swc-wellness-dinner-art-thera
 py-2/
SUMMARY:SWC Wellness Dinner & Art Therapy
DESCRIPTION:SWC will be relocating temporarily while our building undergoes
  repairs to our sewage system.  Wellness dinners and programs will be hel
 d at the Pittsburgh Theological Seminary located at 616 N. Highland Avenue
 \, Pittsburgh\, PA 15206 (just north of Home Depot and across from Obama A
 cademy). \n\nWhen arriving at the seminary\, there will be signs to guide
  you to our exact location. Our dinners are being held in Long Hall and ev
 eryone should enter using the covered walkway between Long Hall and McNaug
 her Hall.\n\nParking is available on N. Highland Ave or on the seminary ca
 mpus.\n\nIf parking on N. Highland Ave or taking the bus\, walk thru the s
 outh gateway (closer to Home Depot) and go to the covered walkway. You can
  make a left to Long Hall and follow the signage to our location.\n\nIf pa
 rking on the campus\, construction has closed several driveway entrances t
 o the campus. Going north on Highland Avenue\, use the drive/entrance just
  past the Chapel\, then drive down past the chapel (on your right) and dri
 ve around the back to the right and park near the end closest to McNaugher
  Hall (please see the area marked “campus parking” on the PTS Campus 
 Map). All parking up the slope before the covered walkway leading to Long 
 Hall is handicap parking.   Go to the covered walkway and make a right i
 nto Long Hall and follow the signs to our location.\n\nSWC Wellness Dinner
  for people living with HIV/AIDS and their loved ones. Doors open at 4:30 
 pm for social time and  beverages. Dinner served at 5:15pm. Program from 
 6 - 7pm.\n\nWe STRONGLY ENCOURAGE Covid Vaccination and Boosters for any
 one eligible for them. Vaccination is not required at this time to attend 
 SWC events. \n\nIf you have a confirmed positive test after attending SWC
 \, please contact us immediately: 412 683 4477 or office@swconline.org.\n
 \nWe will monitor COVID-19 and will update you if additional changes to ou
 r programs become necessary.\n\nIF YOU DO NOT FEEL WELL\, PLEASE DO NOT CO
 ME TO AN IN-PERSON DINNER OR PROGRAM.\n\nWednesday night at Pittsburgh The
 ological Seminary (PTS)\, located at 616 N. Highland Avenue\, Pittsburgh\,
  PA 15206 (just north of Home Depot and across from Obama Academy).\n\n4:3
 0pm - Doors open at PTS for beverages &amp\; social time\n\n5:15 pm - Dinn
 er Served\n6 -7pm - Art Therapy | Art Therapist Brant uses art to help you
  reflect\, share\, improve your health\, and promote emotional well-being 
 with an aromatherapy activity. Each certified member completing this progr
 am receives a $5 gift card. Adult members only.
CATEGORIES:Program,Wellness Dinner
END:VEVENT
BEGIN:VTIMEZONE
TZID:America/New_York
X-LIC-LOCATION:America/New_York
BEGIN:DAYLIGHT
DTSTART:20230312T030000
TZOFFSETFROM:-0500
TZOFFSETTO:-0400
TZNAME:EDT
END:DAYLIGHT
END:VTIMEZONE
END:VCALENDAR